BEGIN:VCALENDAR
VERSION:2.0
PRODID:-//milkworks.org//NONSGML kigkonsult.se iCalcreator 2.30.10//
CALSCALE:GREGORIAN
METHOD:PUBLISH
UID:814dcb4b-6459-4d7f-a2d2-bc5575576563
X-WR-CALDESC:This group is for moms with babies or toddlers. It is held in 
 our toddler-safe Gathering Place (the large room next to our retail space)
 . A breastfeeding educator leads the group and makes sure that everyone is
  introduced. Moms can choose to ask questions and talk about  breastfeedin
 g and other related topics.\n\nThis is a virtual group!!! Please call Milk
 Works at 402-423-6402 to receive the zoom link\n\n
X-WR-RELCALID:f846f636ecce57df92b82fa4bc4e2905
X-WR-TIMEZONE:America/Chicago
BEGIN:VTIMEZONE
TZID:America/Chicago
BEGIN:STANDARD
TZNAME:CST
DTSTART:20191103T020000
TZOFFSETFROM:-0500
TZOFFSETTO:-0600
RDATE:20201101T020000
END:STANDARD
BEGIN:DAYLIGHT
TZNAME:CDT
DTSTART:20190310T020000
TZOFFSETFROM:-0600
TZOFFSETTO:-0500
RDATE:20200308T020000
RDATE:20210314T020000
END:DAYLIGHT
END:VTIMEZONE
BEGIN:VEVENT
UID:13b27ba2-9298-486d-8aa2-f8394d28c3ce
DTSTAMP:20260425T002422Z
DESCRIPTION:This group is for moms with babies or toddlers. It is held in o
 ur toddler-safe Gathering Place (the large room next to our retail space).
  A breastfeeding educator leads the group and makes sure that everyone is 
 introduced. Moms can choose to ask questions and talk about  breastfeeding
  and other related topics.\n\nThis is a virtual group!!! Please call MilkW
 orks at 402-423-6402 to receive the zoom link\n\n
DTSTART;TZID=America/Chicago:20200206T093000
DTEND;TZID=America/Chicago:20200206T110000
LOCATION:MilkWorks Lincoln
SUMMARY:Mom Talk LINCOLN
END:VEVENT
END:VCALENDAR
