BEGIN:VCALENDAR
VERSION:2.0
PRODID:-//milkworks.org//NONSGML kigkonsult.se iCalcreator 2.30.10//
CALSCALE:GREGORIAN
METHOD:PUBLISH
UID:5cec8a6a-b74d-4dbc-8f42-3f3f7e2ecc59
X-WR-CALDESC:For expectant parents - get ready to feed your newborn! This c
 lass covers breastfeeding basics\, common challenges and how to get suppor
 t. Please click the 'register now' button. * If registration is full\, ple
 ase call 402-502-0617 to be put on the waiting list.*   This class include
 s a 60 minute break for lunch. \n\nFee is $25.\n\n
X-WR-RELCALID:89be11621d0eb0e258771a45c1b134c3
X-WR-TIMEZONE:America/Chicago
BEGIN:VTIMEZONE
TZID:America/Chicago
BEGIN:STANDARD
TZNAME:CST
DTSTART:20191103T020000
TZOFFSETFROM:-0500
TZOFFSETTO:-0600
RDATE:20201101T020000
END:STANDARD
BEGIN:DAYLIGHT
TZNAME:CDT
DTSTART:20190310T020000
TZOFFSETFROM:-0600
TZOFFSETTO:-0500
RDATE:20200308T020000
RDATE:20210314T020000
END:DAYLIGHT
END:VTIMEZONE
BEGIN:VEVENT
UID:9a295e9e-ad49-495d-a093-d454ac93c821
DTSTAMP:20260425T002106Z
DESCRIPTION:For expectant parents - get ready to feed your newborn! This cl
 ass covers breastfeeding basics\, common challenges and how to get support
 . Please click the 'register now' button. * If registration is full\, plea
 se call 402-502-0617 to be put on the waiting list.*   This class includes
  a 60 minute break for lunch. \n\nFee is $25.\n\n
DTSTART;TZID=America/Chicago:20200208T100000
DTEND;TZID=America/Chicago:20200208T150000
LOCATION:MilkWorks Omaha
SUMMARY:All About Breastfeeding {OMAHA}
END:VEVENT
END:VCALENDAR
