BEGIN:VCALENDAR
VERSION:2.0
PRODID:-//milkworks.org//NONSGML kigkonsult.se iCalcreator 2.30.10//
CALSCALE:GREGORIAN
METHOD:PUBLISH
UID:84d395e5-1a76-4883-8e80-ed50bdd89656
X-WR-CALDESC:If you would like to take this class\, Please sign up for 'Par
 t 1'\n\nFor expectant parents - get ready to feed your newborn! This class
  covers breastfeeding basics\, common challenges and how to get support. T
 his is the second class in a two part Tuesday night All About Breastfeedin
 g class. \n\nFee is $25.\n\n
X-WR-RELCALID:d22653110fbe72079e698d1984f4bc64
X-WR-TIMEZONE:America/Chicago
BEGIN:VTIMEZONE
TZID:America/Chicago
BEGIN:STANDARD
TZNAME:CST
DTSTART:20191103T020000
TZOFFSETFROM:-0500
TZOFFSETTO:-0600
RDATE:20201101T020000
END:STANDARD
BEGIN:DAYLIGHT
TZNAME:CDT
DTSTART:20190310T020000
TZOFFSETFROM:-0600
TZOFFSETTO:-0500
RDATE:20200308T020000
RDATE:20210314T020000
END:DAYLIGHT
END:VTIMEZONE
BEGIN:VEVENT
UID:0e159a43-7c0c-4061-9e22-17c2f91ddb87
DTSTAMP:20260425T002340Z
DESCRIPTION:If you would like to take this class\, Please sign up for 'Part
  1'\n\nFor expectant parents - get ready to feed your newborn! This class 
 covers breastfeeding basics\, common challenges and how to get support. Th
 is is the second class in a two part Tuesday night All About Breastfeeding
  class. \n\nFee is $25.\n\n
DTSTART;TZID=America/Chicago:20200211T180000
DTEND;TZID=America/Chicago:20200211T200000
LOCATION:MilkWorks Lincoln
SUMMARY:All About Breastfeeding Lincoln (Part 2)
END:VEVENT
END:VCALENDAR
