BEGIN:VCALENDAR
VERSION:2.0
PRODID:-//milkworks.org//NONSGML kigkonsult.se iCalcreator 2.30.10//
CALSCALE:GREGORIAN
METHOD:PUBLISH
UID:26f0cf2d-29d2-493b-8083-71184556e654
X-WR-CALDESC:For expectant parents - get ready to feed your newborn! This c
 lass covers breastfeeding basics\, common challenges and how to get suppor
 t. Please click the 'register now' button. * If registration is full\, ple
 ase call 402-423-6402 to be put on the waiting list.*   This class include
 s a 60 minute break for lunch. \n\nFee is $25.\n\n
X-WR-RELCALID:fff2a7d0149fb9d76e343ed878ebb685
X-WR-TIMEZONE:America/Chicago
BEGIN:VTIMEZONE
TZID:America/Chicago
BEGIN:STANDARD
TZNAME:CST
DTSTART:20191103T020000
TZOFFSETFROM:-0500
TZOFFSETTO:-0600
RDATE:20201101T020000
END:STANDARD
BEGIN:DAYLIGHT
TZNAME:CDT
DTSTART:20190310T020000
TZOFFSETFROM:-0600
TZOFFSETTO:-0500
RDATE:20200308T020000
RDATE:20210314T020000
END:DAYLIGHT
END:VTIMEZONE
BEGIN:VEVENT
UID:8c215e79-753c-40fb-9272-7e221b1bd817
DTSTAMP:20260425T002223Z
DESCRIPTION:For expectant parents - get ready to feed your newborn! This cl
 ass covers breastfeeding basics\, common challenges and how to get support
 . Please click the 'register now' button. * If registration is full\, plea
 se call 402-423-6402 to be put on the waiting list.*   This class includes
  a 60 minute break for lunch. \n\nFee is $25.\n\n
DTSTART;TZID=America/Chicago:20200215T100000
DTEND;TZID=America/Chicago:20200215T150000
LOCATION:MilkWorks Lincoln
SUMMARY:All About Breastfeeding {LINCOLN}
END:VEVENT
END:VCALENDAR
