BEGIN:VCALENDAR
VERSION:2.0
PRODID:-//milkworks.org//NONSGML kigkonsult.se iCalcreator 2.30.10//
CALSCALE:GREGORIAN
METHOD:PUBLISH
UID:83370fb8-97b0-438a-ae44-31c30a780325
X-WR-CALDESC:This group is for moms with babies or toddlers. It is held in 
 our toddler-safe Gathering Place (the large room next to our retail space)
 . A breastfeeding educator leads the group and makes sure that everyone is
  introduced. Moms can choose to ask questions and talk about  breastfeedin
 g and other related topics.\n\nThis is a virtual group!!! Please call Milk
 Works at 402-423-6402 to receive the zoom link\n\n
X-WR-RELCALID:6553c289ca85e07ae3ea30d47de7f9a7
X-WR-TIMEZONE:America/Chicago
BEGIN:VTIMEZONE
TZID:America/Chicago
BEGIN:STANDARD
TZNAME:CST
DTSTART:20191103T020000
TZOFFSETFROM:-0500
TZOFFSETTO:-0600
RDATE:20201101T020000
END:STANDARD
BEGIN:DAYLIGHT
TZNAME:CDT
DTSTART:20190310T020000
TZOFFSETFROM:-0600
TZOFFSETTO:-0500
RDATE:20200308T020000
RDATE:20210314T020000
END:DAYLIGHT
END:VTIMEZONE
BEGIN:VEVENT
UID:4cd6a4b3-6387-4b06-adb2-191931aea021
DTSTAMP:20260425T002759Z
DESCRIPTION:This group is for moms with babies or toddlers. It is held in o
 ur toddler-safe Gathering Place (the large room next to our retail space).
  A breastfeeding educator leads the group and makes sure that everyone is 
 introduced. Moms can choose to ask questions and talk about  breastfeeding
  and other related topics.\n\nThis is a virtual group!!! Please call MilkW
 orks at 402-423-6402 to receive the zoom link\n\n
DTSTART;TZID=America/Chicago:20200220T093000
DTEND;TZID=America/Chicago:20200220T110000
LOCATION:MilkWorks Lincoln
SUMMARY:Mom Talk LINCOLN
END:VEVENT
END:VCALENDAR
