BEGIN:VCALENDAR
VERSION:2.0
PRODID:-//milkworks.org//NONSGML kigkonsult.se iCalcreator 2.30.10//
CALSCALE:GREGORIAN
METHOD:PUBLISH
UID:024b2ed5-44cb-45c9-aac8-f79e6ce734e8
X-WR-CALDESC:For new mothers who are returning to work or school outside th
 e home while breastfeeding. Learn the “ins and outs” of pumping\, storing 
 milk\, federal regulations and working with your day care provider. You ma
 y attend while pregnant or after your baby is born. Fee is $15. \n\n* If r
 egistration is full\, please call 402-502-0617 to be put on the waiting li
 st.*  \n\n
X-WR-RELCALID:47768b053a7cde3f8d9dd229cf77be82
X-WR-TIMEZONE:America/Chicago
BEGIN:VTIMEZONE
TZID:America/Chicago
BEGIN:STANDARD
TZNAME:CST
DTSTART:20191103T020000
TZOFFSETFROM:-0500
TZOFFSETTO:-0600
RDATE:20201101T020000
END:STANDARD
BEGIN:DAYLIGHT
TZNAME:CDT
DTSTART:20190310T020000
TZOFFSETFROM:-0600
TZOFFSETTO:-0500
RDATE:20200308T020000
RDATE:20210314T020000
END:DAYLIGHT
END:VTIMEZONE
BEGIN:VEVENT
UID:024cbeb2-c2a2-4c48-8c05-45d0c5303111
DTSTAMP:20260425T001420Z
DESCRIPTION:For new mothers who are returning to work or school outside the
  home while breastfeeding. Learn the “ins and outs” of pumping\, storing m
 ilk\, federal regulations and working with your day care provider. You may
  attend while pregnant or after your baby is born. Fee is $15. \n\n* If re
 gistration is full\, please call 402-502-0617 to be put on the waiting lis
 t.*  \n\n
DTSTART;TZID=America/Chicago:20200225T130000
DTEND;TZID=America/Chicago:20200225T150000
LOCATION:Omaha
SUMMARY:Return to Work {Omaha}
END:VEVENT
END:VCALENDAR
