BEGIN:VCALENDAR
VERSION:2.0
PRODID:-//milkworks.org//NONSGML kigkonsult.se iCalcreator 2.30.10//
CALSCALE:GREGORIAN
METHOD:PUBLISH
UID:30aa6870-8310-41c5-95cf-357d8acdb1d5
X-WR-CALDESC:This group is for moms with babies or toddlers. It is held in 
 our toddler-safe Gathering Place (the large room next to our retail space)
 . A breastfeeding educator leads the group and makes sure that everyone is
  introduced. Moms can choose to ask questions and talk about  breastfeedin
 g and other related topics.\n\nThis is a virtual group!!! Please call Milk
 Works at 402-423-6402 to receive the zoom link\n\n
X-WR-RELCALID:c6622fd6e693a84162421c206fe0135d
X-WR-TIMEZONE:America/Chicago
BEGIN:VTIMEZONE
TZID:America/Chicago
BEGIN:STANDARD
TZNAME:CST
DTSTART:20191103T020000
TZOFFSETFROM:-0500
TZOFFSETTO:-0600
RDATE:20201101T020000
END:STANDARD
BEGIN:DAYLIGHT
TZNAME:CDT
DTSTART:20190310T020000
TZOFFSETFROM:-0600
TZOFFSETTO:-0500
RDATE:20200308T020000
RDATE:20210314T020000
END:DAYLIGHT
END:VTIMEZONE
BEGIN:VEVENT
UID:c25bc742-f5e8-4e7e-addf-dde8b67bca4e
DTSTAMP:20260425T002621Z
DESCRIPTION:This group is for moms with babies or toddlers. It is held in o
 ur toddler-safe Gathering Place (the large room next to our retail space).
  A breastfeeding educator leads the group and makes sure that everyone is 
 introduced. Moms can choose to ask questions and talk about  breastfeeding
  and other related topics.\n\nThis is a virtual group!!! Please call MilkW
 orks at 402-423-6402 to receive the zoom link\n\n
DTSTART;TZID=America/Chicago:20200227T093000
DTEND;TZID=America/Chicago:20200227T110000
LOCATION:MilkWorks Lincoln
SUMMARY:Mom Talk LINCOLN
END:VEVENT
END:VCALENDAR
