BEGIN:VCALENDAR
VERSION:2.0
PRODID:-//milkworks.org//NONSGML kigkonsult.se iCalcreator 2.30.10//
CALSCALE:GREGORIAN
METHOD:PUBLISH
UID:37406099-7ce2-441f-8dd6-29bef851f299
X-WR-CALDESC:For expectant parents - get ready to feed your newborn! This c
 lass covers breastfeeding basics\, common challenges and how to get suppor
 t. Please click the 'register now' button. * If registration is full\, ple
 ase call 402-502-0617 to be put on the waiting list.*   This class include
 s a 60 minute break for lunch. \n\nFee is $25.\n\n
X-WR-RELCALID:ba6256001fb35ac7e243076f31035057
X-WR-TIMEZONE:America/Chicago
BEGIN:VTIMEZONE
TZID:America/Chicago
BEGIN:STANDARD
TZNAME:CST
DTSTART:20191103T020000
TZOFFSETFROM:-0500
TZOFFSETTO:-0600
RDATE:20201101T020000
END:STANDARD
BEGIN:DAYLIGHT
TZNAME:CDT
DTSTART:20190310T020000
TZOFFSETFROM:-0600
TZOFFSETTO:-0500
RDATE:20200308T020000
RDATE:20210314T020000
END:DAYLIGHT
END:VTIMEZONE
BEGIN:VEVENT
UID:02333dab-fe9b-4b14-825c-d2b111fa2df8
DTSTAMP:20260424T223304Z
DESCRIPTION:For expectant parents - get ready to feed your newborn! This cl
 ass covers breastfeeding basics\, common challenges and how to get support
 . Please click the 'register now' button. * If registration is full\, plea
 se call 402-502-0617 to be put on the waiting list.*   This class includes
  a 60 minute break for lunch. \n\nFee is $25.\n\n
DTSTART;TZID=America/Chicago:20200307T100000
DTEND;TZID=America/Chicago:20200307T150000
LOCATION:MilkWorks Omaha
SUMMARY:All About Breastfeeding {OMAHA}
END:VEVENT
END:VCALENDAR
