BEGIN:VCALENDAR
VERSION:2.0
PRODID:-//milkworks.org//NONSGML kigkonsult.se iCalcreator 2.30.10//
CALSCALE:GREGORIAN
METHOD:PUBLISH
UID:d95f88cb-0895-4f62-bac5-55b95b7a07b0
X-WR-CALDESC:For parent of babies who are 3 to 9 months old. Taught by a re
 gistered dietician\, this class covers tips on readiness signs\, safety aw
 areness\, introducing new foods and making your own baby food. Fee is $15.
   \n\nPlease note: This class is provided at no cost for mothers who have 
 been seen by a Lactation Consultant at MilkWorks. \n\n
X-WR-RELCALID:935cae263430f0c0b5b265671d8745b6
X-WR-TIMEZONE:America/Chicago
BEGIN:VTIMEZONE
TZID:America/Chicago
BEGIN:STANDARD
TZNAME:CST
DTSTART:20191103T020000
TZOFFSETFROM:-0500
TZOFFSETTO:-0600
RDATE:20201101T020000
END:STANDARD
BEGIN:DAYLIGHT
TZNAME:CDT
DTSTART:20200308T020000
TZOFFSETFROM:-0600
TZOFFSETTO:-0500
RDATE:20210314T020000
END:DAYLIGHT
END:VTIMEZONE
BEGIN:VEVENT
UID:1916b127-c398-454b-8a3f-fa2cc74a5ada
DTSTAMP:20260424T223129Z
DESCRIPTION:For parent of babies who are 3 to 9 months old. Taught by a reg
 istered dietician\, this class covers tips on readiness signs\, safety awa
 reness\, introducing new foods and making your own baby food. Fee is $15. 
  \n\nPlease note: This class is provided at no cost for mothers who have b
 een seen by a Lactation Consultant at MilkWorks. \n\n
DTSTART;TZID=America/Chicago:20200318T180000
DTEND;TZID=America/Chicago:20200318T200000
LOCATION:MilkWorks Lincoln
SUMMARY:Introducing Solids {Lincoln}
END:VEVENT
END:VCALENDAR
