BEGIN:VCALENDAR
VERSION:2.0
PRODID:-//milkworks.org//NONSGML kigkonsult.se iCalcreator 2.30.10//
CALSCALE:GREGORIAN
METHOD:PUBLISH
UID:5c747038-de5f-4732-88e4-06acd1d42ff7
X-WR-CALDESC:Choosing a breast pump can be overwhelming! Join MilkWorks at 
 Breast Pumps 101 to learn all about Medela & Spectra breast pumps in a fun
  + comfortable environment. Let us help you make a confident decision!\n\n
 This FREE class will cover the ins and outs of using each style of breast 
 pump\, including 'best practice' tips & tricks\, cleaning & assembling pum
 p parts\, breastshield fit & more! While this is a free class\, space is l
 imited and you MUST register to reserve your spot. Registration is availab
 le by calling 402.502.0617 or by clicking 'Register Now'.\n\n: : : If you 
 would like to go home with your breast pump after class\, make sure to bri
 ng your insurance card & a prescription* with you! MilkWorks is in-network
  with all major private insurance and all Nebraska Medicaid plans for high
  quality breast pumps.\n\nWe encourage you to call the number on the back 
 of your insurance card to confirm this is a covered benefit under your spe
 cific plan.\n\nYou don't need to attend Breast Pumps 101 to obtain your br
 east pump at MilkWorks! We are open Monday-Saturday 9am-5pm and until 8pm 
 every Tuesday. No appointment is needed and the process is super simple.\n
 \n*Nebraska Medicaid requires breast pump prescriptions to be signed by a 
 MD or DO.
X-WR-RELCALID:495d7ac3c489083451d49e8e45c5183a
X-WR-TIMEZONE:America/Chicago
BEGIN:VTIMEZONE
TZID:America/Chicago
BEGIN:STANDARD
TZNAME:CST
DTSTART:20191103T020000
TZOFFSETFROM:-0500
TZOFFSETTO:-0600
RDATE:20201101T020000
END:STANDARD
BEGIN:DAYLIGHT
TZNAME:CDT
DTSTART:20200308T020000
TZOFFSETFROM:-0600
TZOFFSETTO:-0500
RDATE:20210314T020000
END:DAYLIGHT
END:VTIMEZONE
BEGIN:VEVENT
UID:71bdff93-5657-469d-8121-53862caad135
DTSTAMP:20260424T223933Z
DESCRIPTION:Choosing a breast pump can be overwhelming! Join MilkWorks at B
 reast Pumps 101 to learn all about Medela & Spectra breast pumps in a fun 
 + comfortable environment. Let us help you make a confident decision!\n\nT
 his FREE class will cover the ins and outs of using each style of breast p
 ump\, including 'best practice' tips & tricks\, cleaning & assembling pump
  parts\, breastshield fit & more! While this is a free class\, space is li
 mited and you MUST register to reserve your spot. Registration is availabl
 e by calling 402.502.0617 or by clicking 'Register Now'.\n\n: : : If you w
 ould like to go home with your breast pump after class\, make sure to brin
 g your insurance card & a prescription* with you! MilkWorks is in-network 
 with all major private insurance and all Nebraska Medicaid plans for high 
 quality breast pumps.\n\nWe encourage you to call the number on the back o
 f your insurance card to confirm this is a covered benefit under your spec
 ific plan.\n\nYou don't need to attend Breast Pumps 101 to obtain your bre
 ast pump at MilkWorks! We are open Monday-Saturday 9am-5pm and until 8pm e
 very Tuesday. No appointment is needed and the process is super simple.\n
 \n*Nebraska Medicaid requires breast pump prescriptions to be signed by a 
 MD or DO.
DTSTART;TZID=America/Chicago:20200328T130000
DTEND;TZID=America/Chicago:20200328T143000
LOCATION:MilkWorks O (in Rockbrook Village)
SUMMARY:Breast Pumps 101 {OMAHA}
END:VEVENT
END:VCALENDAR
