BEGIN:VCALENDAR
VERSION:2.0
PRODID:-//milkworks.org//NONSGML kigkonsult.se iCalcreator 2.30.10//
CALSCALE:GREGORIAN
METHOD:PUBLISH
UID:76bb7949-a3fe-4573-b582-bbf6bbc695a5
X-WR-CALDESC:This is a two part\, (2) hour long class. The second class mee
 ts on the following Tuesday night (4/7)  from 6-8pm.\n\nFor expectant pare
 nts - get ready to feed your newborn! This class covers breastfeeding basi
 cs\, common challenges and how to get support. Please click the 'register 
 now' button. * If registration is full\, please call 402-423-6402 to be pu
 t on the waiting list.*  \n \nFee is $25.\n\n
X-WR-RELCALID:d2f7f657bfa5b41c1b88771060beb4a2
X-WR-TIMEZONE:America/Chicago
BEGIN:VTIMEZONE
TZID:America/Chicago
BEGIN:STANDARD
TZNAME:CST
DTSTART:20191103T020000
TZOFFSETFROM:-0500
TZOFFSETTO:-0600
RDATE:20201101T020000
END:STANDARD
BEGIN:DAYLIGHT
TZNAME:CDT
DTSTART:20200308T020000
TZOFFSETFROM:-0600
TZOFFSETTO:-0500
RDATE:20210314T020000
END:DAYLIGHT
END:VTIMEZONE
BEGIN:VEVENT
UID:5daffa35-c166-4ab7-9fb5-09e2f3067b1e
DTSTAMP:20260424T224956Z
DESCRIPTION:This is a two part\, (2) hour long class. The second class meet
 s on the following Tuesday night (4/7)  from 6-8pm.\n\nFor expectant paren
 ts - get ready to feed your newborn! This class covers breastfeeding basic
 s\, common challenges and how to get support. Please click the 'register n
 ow' button. * If registration is full\, please call 402-423-6402 to be put
  on the waiting list.*  \n \nFee is $25.\n\n
DTSTART;TZID=America/Chicago:20200331T180000
DTEND;TZID=America/Chicago:20200331T200000
LOCATION:MilkWorks Lincoln
SUMMARY:All About Breastfeeding Lincoln (Part 1)
END:VEVENT
END:VCALENDAR
