BEGIN:VCALENDAR
VERSION:2.0
PRODID:-//milkworks.org//NONSGML kigkonsult.se iCalcreator 2.30.10//
CALSCALE:GREGORIAN
METHOD:PUBLISH
UID:0c4dee1f-fa63-42da-b8e2-beb716d75422
X-WR-CALDESC:This group is for moms with babies or toddlers. It is held in 
 our toddler-safe Gathering Place (the large room next to our retail space)
 . A breastfeeding educator leads the group and makes sure that everyone is
  introduced. Moms can choose to ask questions and talk about  breastfeedin
 g and other related topics.\n\nThis is a virtual group!!! Please call Milk
 Works at 402-423-6402 to receive the zoom link\n\n
X-WR-RELCALID:3bcee7374205a0b53796d4957dca8eec
X-WR-TIMEZONE:America/Chicago
BEGIN:VTIMEZONE
TZID:America/Chicago
BEGIN:STANDARD
TZNAME:CST
DTSTART:20191103T020000
TZOFFSETFROM:-0500
TZOFFSETTO:-0600
RDATE:20201101T020000
END:STANDARD
BEGIN:DAYLIGHT
TZNAME:CDT
DTSTART:20200308T020000
TZOFFSETFROM:-0600
TZOFFSETTO:-0500
RDATE:20210314T020000
END:DAYLIGHT
END:VTIMEZONE
BEGIN:VEVENT
UID:ff0b8211-c9b4-4bc7-a60c-37ceded732e2
DTSTAMP:20260424T211821Z
DESCRIPTION:This group is for moms with babies or toddlers. It is held in o
 ur toddler-safe Gathering Place (the large room next to our retail space).
  A breastfeeding educator leads the group and makes sure that everyone is 
 introduced. Moms can choose to ask questions and talk about  breastfeeding
  and other related topics.\n\nThis is a virtual group!!! Please call MilkW
 orks at 402-423-6402 to receive the zoom link\n\n
DTSTART;TZID=America/Chicago:20200402T093000
DTEND;TZID=America/Chicago:20200402T110000
LOCATION:MilkWorks Lincoln
SUMMARY:Mom Talk LINCOLN
END:VEVENT
END:VCALENDAR
