BEGIN:VCALENDAR
VERSION:2.0
PRODID:-//milkworks.org//NONSGML kigkonsult.se iCalcreator 2.30.10//
CALSCALE:GREGORIAN
METHOD:PUBLISH
UID:d9c9c119-d9dc-45bd-98bf-a75a493800c3
X-WR-CALDESC:MilkWorks offers a Breast Pump & Baby Weigh Station once a mon
 th at Four Corners Health Department. Meghan Greken\, RN\, IBCLC\, will be
  on hand to greet you and answer questions. If you are in the York area\, 
 stop by to pick up your breast pump or weigh your baby! Check out our cale
 ndar for upcoming dates & times!
X-WR-RELCALID:161c1661003abac4031589f6074a0940
X-WR-TIMEZONE:America/Chicago
BEGIN:VTIMEZONE
TZID:America/Chicago
BEGIN:STANDARD
TZNAME:CST
DTSTART:20191103T020000
TZOFFSETFROM:-0500
TZOFFSETTO:-0600
RDATE:20201101T020000
END:STANDARD
BEGIN:DAYLIGHT
TZNAME:CDT
DTSTART:20200308T020000
TZOFFSETFROM:-0600
TZOFFSETTO:-0500
RDATE:20210314T020000
END:DAYLIGHT
END:VTIMEZONE
BEGIN:VEVENT
UID:9ad39d94-81d3-42dd-8d27-57de245cd3a6
DTSTAMP:20260424T211648Z
DESCRIPTION:MilkWorks offers a Breast Pump & Baby Weigh Station once a mont
 h at Four Corners Health Department. Meghan Greken\, RN\, IBCLC\, will be 
 on hand to greet you and answer questions. If you are in the York area\, s
 top by to pick up your breast pump or weigh your baby! Check out our calen
 dar for upcoming dates & times!
DTSTART;TZID=America/Chicago:20200415T150000
DTEND;TZID=America/Chicago:20200415T163000
LOCATION:Four Corners Health Department
SUMMARY:Breast Pump & Baby Weigh Station
END:VEVENT
END:VCALENDAR
