BEGIN:VCALENDAR
VERSION:2.0
PRODID:-//milkworks.org//NONSGML kigkonsult.se iCalcreator 2.30.10//
CALSCALE:GREGORIAN
METHOD:PUBLISH
UID:1e4e13ef-dc7e-41fe-89cc-e25fec624d24
X-WR-CALDESC:For expectant parents - get ready to feed your newborn! This c
 lass covers breastfeeding basics\, common challenges and how to get suppor
 t. Please click the 'register now' button. * If registration is full\, ple
 ase call 402-423-6402 to be put on the waiting list.*   This class include
 s a 60 minute break for lunch. \n\nFee is $25.\n\n
X-WR-RELCALID:83c8f8e66fc10aaad051f2103b279498
X-WR-TIMEZONE:America/Chicago
BEGIN:VTIMEZONE
TZID:America/Chicago
BEGIN:STANDARD
TZNAME:CST
DTSTART:20191103T020000
TZOFFSETFROM:-0500
TZOFFSETTO:-0600
RDATE:20201101T020000
END:STANDARD
BEGIN:DAYLIGHT
TZNAME:CDT
DTSTART:20200308T020000
TZOFFSETFROM:-0600
TZOFFSETTO:-0500
RDATE:20210314T020000
END:DAYLIGHT
END:VTIMEZONE
BEGIN:VEVENT
UID:9ea5ea52-a587-47e9-9fa0-e862bb18169c
DTSTAMP:20260424T212111Z
DESCRIPTION:For expectant parents - get ready to feed your newborn! This cl
 ass covers breastfeeding basics\, common challenges and how to get support
 . Please click the 'register now' button. * If registration is full\, plea
 se call 402-423-6402 to be put on the waiting list.*   This class includes
  a 60 minute break for lunch. \n\nFee is $25.\n\n
DTSTART;TZID=America/Chicago:20200418T100000
DTEND;TZID=America/Chicago:20200418T150000
LOCATION:MilkWorks Lincoln
SUMMARY:All About Breastfeeding {LINCOLN}
END:VEVENT
END:VCALENDAR
