BEGIN:VCALENDAR
VERSION:2.0
PRODID:-//milkworks.org//NONSGML kigkonsult.se iCalcreator 2.30.10//
CALSCALE:GREGORIAN
METHOD:PUBLISH
UID:1c390c6c-ca3f-44c1-9486-6b664368dc0e
X-WR-CALDESC:This group is for moms with babies or toddlers. It is held in 
 our toddler-safe Gathering Place (the large room next to our retail space)
 . A breastfeeding educator leads the group and makes sure that everyone is
  introduced. Moms can choose to ask questions and talk about  breastfeedin
 g and other related topics.\n\nThis is a virtual group!!! Please email cal
 endar@milkworks.org to obtain to link. Thank you!\n\n
X-WR-RELCALID:412a6c92c19b587fbebc1acec50fd9a2
X-WR-TIMEZONE:America/Chicago
BEGIN:VTIMEZONE
TZID:America/Chicago
BEGIN:STANDARD
TZNAME:CST
DTSTART:20191103T020000
TZOFFSETFROM:-0500
TZOFFSETTO:-0600
RDATE:20201101T020000
END:STANDARD
BEGIN:DAYLIGHT
TZNAME:CDT
DTSTART:20200308T020000
TZOFFSETFROM:-0600
TZOFFSETTO:-0500
RDATE:20210314T020000
END:DAYLIGHT
END:VTIMEZONE
BEGIN:VEVENT
UID:7f727d7e-41ba-4726-a301-597657cc6b73
DTSTAMP:20260424T211403Z
DESCRIPTION:This group is for moms with babies or toddlers. It is held in o
 ur toddler-safe Gathering Place (the large room next to our retail space).
  A breastfeeding educator leads the group and makes sure that everyone is 
 introduced. Moms can choose to ask questions and talk about  breastfeeding
  and other related topics.\n\nThis is a virtual group!!! Please email cale
 ndar@milkworks.org to obtain to link. Thank you!\n\n
DTSTART;TZID=America/Chicago:20200430T093000
DTEND;TZID=America/Chicago:20200430T110000
LOCATION:MilkWorks Lincoln
SUMMARY:Mom Talk (virtual)
END:VEVENT
END:VCALENDAR
