BEGIN:VCALENDAR
VERSION:2.0
PRODID:-//milkworks.org//NONSGML kigkonsult.se iCalcreator 2.30.10//
CALSCALE:GREGORIAN
METHOD:PUBLISH
UID:b94df54d-ecfa-4845-ab85-3d5eb69dfa26
X-WR-CALDESC:For expectant parents - get ready to feed your newborn! This c
 lass covers breastfeeding basics\, common challenges and how to get suppor
 t. Please click the 'register now' button. * If registration is full\, ple
 ase call 402-502-0617 to be put on the waiting list.*   \n\nFee is $25.\n
 \n
X-WR-RELCALID:23a938fa9a478bc1d0c64c610ad29727
X-WR-TIMEZONE:America/Chicago
BEGIN:VTIMEZONE
TZID:America/Chicago
BEGIN:STANDARD
TZNAME:CST
DTSTART:20191103T020000
TZOFFSETFROM:-0500
TZOFFSETTO:-0600
RDATE:20201101T020000
END:STANDARD
BEGIN:DAYLIGHT
TZNAME:CDT
DTSTART:20200308T020000
TZOFFSETFROM:-0600
TZOFFSETTO:-0500
RDATE:20210314T020000
END:DAYLIGHT
END:VTIMEZONE
BEGIN:VEVENT
UID:13390ab5-0b0b-427f-800d-6e49b0034f4b
DTSTAMP:20260424T192508Z
DESCRIPTION:For expectant parents - get ready to feed your newborn! This cl
 ass covers breastfeeding basics\, common challenges and how to get support
 . Please click the 'register now' button. * If registration is full\, plea
 se call 402-502-0617 to be put on the waiting list.*   \n\nFee is $25.\n\n
DTSTART;TZID=America/Chicago:20200502T100000
DTEND;TZID=America/Chicago:20200502T150000
LOCATION:MilkWorks Omaha
SUMMARY:All About Breastfeeding {OMAHA}
END:VEVENT
END:VCALENDAR
