BEGIN:VCALENDAR
VERSION:2.0
PRODID:-//milkworks.org//NONSGML kigkonsult.se iCalcreator 2.30.10//
CALSCALE:GREGORIAN
METHOD:PUBLISH
UID:075d4036-be17-4165-938a-d28645c502fe
X-WR-CALDESC:For expectant parents - get ready to feed your newborn! This c
 lass covers breastfeeding basics\, common challenges and how to get suppor
 t. Please click the 'register now' button. * If registration is full\, ple
 ase call 402-423-6402 to be put on the waiting list.*   \n\nFee is $25.\n
 \n
X-WR-RELCALID:e071cf2bd0e99fefe951c46e39694ec4
X-WR-TIMEZONE:America/Chicago
BEGIN:VTIMEZONE
TZID:America/Chicago
BEGIN:STANDARD
TZNAME:CST
DTSTART:20191103T020000
TZOFFSETFROM:-0500
TZOFFSETTO:-0600
RDATE:20201101T020000
RDATE:20211107T020000
END:STANDARD
BEGIN:DAYLIGHT
TZNAME:CDT
DTSTART:20200308T020000
TZOFFSETFROM:-0600
TZOFFSETTO:-0500
RDATE:20210314T020000
END:DAYLIGHT
END:VTIMEZONE
BEGIN:VEVENT
UID:ad5faa82-a56b-4fa9-ae38-846825a471e4
DTSTAMP:20260424T192545Z
DESCRIPTION:For expectant parents - get ready to feed your newborn! This cl
 ass covers breastfeeding basics\, common challenges and how to get support
 . Please click the 'register now' button. * If registration is full\, plea
 se call 402-423-6402 to be put on the waiting list.*   \n\nFee is $25.\n\n
DTSTART;TZID=America/Chicago:20200516T100000
DTEND;TZID=America/Chicago:20200516T150000
LOCATION:MilkWorks Lincoln
SUMMARY:All About Breastfeeding {LINCOLN}
END:VEVENT
END:VCALENDAR
