BEGIN:VCALENDAR
VERSION:2.0
PRODID:-//milkworks.org//NONSGML kigkonsult.se iCalcreator 2.30.10//
CALSCALE:GREGORIAN
METHOD:PUBLISH
UID:e7c77056-70e9-4293-973a-cb24d487af15
X-WR-CALDESC:
X-WR-RELCALID:3e8bb41b7c10b5c594ccb57be56385c3
X-WR-TIMEZONE:America/Chicago
BEGIN:VTIMEZONE
TZID:America/Chicago
BEGIN:STANDARD
TZNAME:CST
DTSTART:20191103T020000
TZOFFSETFROM:-0500
TZOFFSETTO:-0600
RDATE:20201101T020000
RDATE:20211107T020000
END:STANDARD
BEGIN:DAYLIGHT
TZNAME:CDT
DTSTART:20200308T020000
TZOFFSETFROM:-0600
TZOFFSETTO:-0500
RDATE:20210314T020000
END:DAYLIGHT
END:VTIMEZONE
BEGIN:VEVENT
UID:bd7252e3-be89-481a-8b61-388cad18bb69
DTSTAMP:20260424T192334Z
DESCRIPTION:
DTSTART;TZID=America/Chicago:20200521T180000
DTEND;TZID=America/Chicago:20200521T200000
LOCATION:
SUMMARY:Gathering Room In-Use
END:VEVENT
END:VCALENDAR
