BEGIN:VCALENDAR
VERSION:2.0
PRODID:-//milkworks.org//NONSGML kigkonsult.se iCalcreator 2.30.10//
CALSCALE:GREGORIAN
METHOD:PUBLISH
UID:20001a89-5af2-4415-9125-65c370912eb7
X-WR-CALDESC:This group is for moms with babies or toddlers. It is a virtua
 l class. A breastfeeding educator leads the group and makes sure that ever
 yone is introduced. Moms can choose to ask questions and talk about  breas
 tfeeding and other related topics.\n\n* This is a virtual group. Please em
 ail calendar@milkworks.org to obtain the zoom link. Thank you!\n\n
X-WR-RELCALID:a694905c2788d7dff222e3f6ffb8dbd4
X-WR-TIMEZONE:America/Chicago
BEGIN:VTIMEZONE
TZID:America/Chicago
BEGIN:STANDARD
TZNAME:CST
DTSTART:20191103T020000
TZOFFSETFROM:-0500
TZOFFSETTO:-0600
RDATE:20201101T020000
RDATE:20211107T020000
END:STANDARD
BEGIN:DAYLIGHT
TZNAME:CDT
DTSTART:20200308T020000
TZOFFSETFROM:-0600
TZOFFSETTO:-0500
RDATE:20210314T020000
END:DAYLIGHT
END:VTIMEZONE
BEGIN:VEVENT
UID:1c00041e-b32c-42bc-b168-aa2e5b21ff0f
DTSTAMP:20260424T175327Z
DESCRIPTION:This group is for moms with babies or toddlers. It is a virtual
  class. A breastfeeding educator leads the group and makes sure that every
 one is introduced. Moms can choose to ask questions and talk about  breast
 feeding and other related topics.\n\n* This is a virtual group. Please ema
 il calendar@milkworks.org to obtain the zoom link. Thank you!\n\n
DTSTART;TZID=America/Chicago:20200604T093000
DTEND;TZID=America/Chicago:20200604T110000
LOCATION:MilkWorks Lincoln
SUMMARY:Mom Talk (virtual)
END:VEVENT
END:VCALENDAR
