BEGIN:VCALENDAR
VERSION:2.0
PRODID:-//milkworks.org//NONSGML kigkonsult.se iCalcreator 2.30.10//
CALSCALE:GREGORIAN
METHOD:PUBLISH
UID:7f54cdc4-cab3-4a16-ba8c-d3ac4247e573
X-WR-CALDESC:For new mothers who are returning to work or school outside th
 e home while breastfeeding. Learn the “ins and outs” of pumping\, storing 
 milk\, federal regulations and working with your day care provider. You ma
 y attend while pregnant or after your baby is born. Fee is $15.  Free of c
 harge with a pumps service plan. \n\n
X-WR-RELCALID:40dc080baba76f906396af3cfd99d190
X-WR-TIMEZONE:America/Chicago
BEGIN:VTIMEZONE
TZID:America/Chicago
BEGIN:STANDARD
TZNAME:CST
DTSTART:20191103T020000
TZOFFSETFROM:-0500
TZOFFSETTO:-0600
RDATE:20201101T020000
RDATE:20211107T020000
END:STANDARD
BEGIN:DAYLIGHT
TZNAME:CDT
DTSTART:20200308T020000
TZOFFSETFROM:-0600
TZOFFSETTO:-0500
RDATE:20210314T020000
END:DAYLIGHT
END:VTIMEZONE
BEGIN:VEVENT
UID:69aa161d-3d88-481b-8019-9b61bdb0266e
DTSTAMP:20260424T174713Z
DESCRIPTION:For new mothers who are returning to work or school outside the
  home while breastfeeding. Learn the “ins and outs” of pumping\, storing m
 ilk\, federal regulations and working with your day care provider. You may
  attend while pregnant or after your baby is born. Fee is $15.  Free of ch
 arge with a pumps service plan. \n\n
DTSTART;TZID=America/Chicago:20200609T180000
DTEND;TZID=America/Chicago:20200609T200000
LOCATION:Omaha
SUMMARY:Return to Work {Virtual}
END:VEVENT
END:VCALENDAR
