BEGIN:VCALENDAR
VERSION:2.0
PRODID:-//milkworks.org//NONSGML kigkonsult.se iCalcreator 2.30.10//
CALSCALE:GREGORIAN
METHOD:PUBLISH
UID:2e7d0f4c-7508-4b8f-b5be-339f2c0c8018
X-WR-CALDESC:For expectant parents - get ready to feed your newborn! This c
 lass covers breastfeeding basics\, common challenges and how to get suppor
 t. Please click the 'register now' button. * If registration is full\, ple
 ase call 402-502-0617 to be put on the waiting list.*   \n\nFee is $25.\n
 \n
X-WR-RELCALID:086da0b0f2032324c87f3d7b1ca5726c
X-WR-TIMEZONE:America/Chicago
BEGIN:VTIMEZONE
TZID:America/Chicago
BEGIN:STANDARD
TZNAME:CST
DTSTART:20191103T020000
TZOFFSETFROM:-0500
TZOFFSETTO:-0600
RDATE:20201101T020000
RDATE:20211107T020000
END:STANDARD
BEGIN:DAYLIGHT
TZNAME:CDT
DTSTART:20200308T020000
TZOFFSETFROM:-0600
TZOFFSETTO:-0500
RDATE:20210314T020000
END:DAYLIGHT
END:VTIMEZONE
BEGIN:VEVENT
UID:89b955aa-9abf-4f1a-9891-3e6967434d96
DTSTAMP:20260424T174948Z
DESCRIPTION:For expectant parents - get ready to feed your newborn! This cl
 ass covers breastfeeding basics\, common challenges and how to get support
 . Please click the 'register now' button. * If registration is full\, plea
 se call 402-502-0617 to be put on the waiting list.*   \n\nFee is $25.\n\n
DTSTART;TZID=America/Chicago:20200613T100000
DTEND;TZID=America/Chicago:20200613T150000
LOCATION:MilkWorks Omaha
SUMMARY:All About Breastfeeding {VIRTUAL}
END:VEVENT
END:VCALENDAR
