BEGIN:VCALENDAR
VERSION:2.0
PRODID:-//milkworks.org//NONSGML kigkonsult.se iCalcreator 2.30.10//
CALSCALE:GREGORIAN
METHOD:PUBLISH
UID:db0c2650-88df-488a-bd4c-e891d1c349fe
X-WR-CALDESC:A lot has changed since our children were children. Now those 
 children are having babies! Learn how you can best support the new parents
  in your life with this {{FREE}} engaging virtual class. Expecting parents
 \, we'd love to have you join along with your parents or in-laws! An email
  will be sent prior to class with the zoom link.
X-WR-RELCALID:a8f7ee29d5c7e89cb484e8cba40ed50e
X-WR-TIMEZONE:America/Chicago
BEGIN:VTIMEZONE
TZID:America/Chicago
BEGIN:STANDARD
TZNAME:CST
DTSTART:20191103T020000
TZOFFSETFROM:-0500
TZOFFSETTO:-0600
RDATE:20201101T020000
RDATE:20211107T020000
END:STANDARD
BEGIN:DAYLIGHT
TZNAME:CDT
DTSTART:20200308T020000
TZOFFSETFROM:-0600
TZOFFSETTO:-0500
RDATE:20210314T020000
END:DAYLIGHT
END:VTIMEZONE
BEGIN:VEVENT
UID:d52e7385-0c12-413c-972a-c2f79895196c
DTSTAMP:20260424T175618Z
DESCRIPTION:A lot has changed since our children were children. Now those c
 hildren are having babies! Learn how you can best support the new parents 
 in your life with this {{FREE}} engaging virtual class. Expecting parents\
 , we'd love to have you join along with your parents or in-laws! An email 
 will be sent prior to class with the zoom link.
DTSTART;TZID=America/Chicago:20200627T103000
DTEND;TZID=America/Chicago:20200627T120000
LOCATION:
SUMMARY:So you're going to be a grandparent!
END:VEVENT
END:VCALENDAR
