BEGIN:VCALENDAR
VERSION:2.0
PRODID:-//milkworks.org//NONSGML kigkonsult.se iCalcreator 2.30.10//
CALSCALE:GREGORIAN
METHOD:PUBLISH
UID:2b6e114a-435a-4ab3-a2b9-76c73a43c1e7
X-WR-CALDESC:Led by one of our Lactation Consultants\, this group is intend
 ed for mothers-to-be and mothers of multiples. Discuss the ins and outs of
  breastfeeding\, parenting and caring for your multiples. \n\nTo receive t
 he link for group or for more information\, please email calendar@milkwork
 s.org
X-WR-RELCALID:0dad4de6f7943569a885f78eb6a37f85
X-WR-TIMEZONE:America/Chicago
BEGIN:VTIMEZONE
TZID:America/Chicago
BEGIN:STANDARD
TZNAME:CST
DTSTART:20191103T020000
TZOFFSETFROM:-0500
TZOFFSETTO:-0600
RDATE:20201101T020000
RDATE:20211107T020000
END:STANDARD
BEGIN:DAYLIGHT
TZNAME:CDT
DTSTART:20200308T020000
TZOFFSETFROM:-0600
TZOFFSETTO:-0500
RDATE:20210314T020000
END:DAYLIGHT
END:VTIMEZONE
BEGIN:VEVENT
UID:8b48e9b5-86c8-455f-a8f6-b76071100911
DTSTAMP:20260424T160617Z
DESCRIPTION:Led by one of our Lactation Consultants\, this group is intende
 d for mothers-to-be and mothers of multiples. Discuss the ins and outs of 
 breastfeeding\, parenting and caring for your multiples. \n\nTo receive th
 e link for group or for more information\, please email calendar@milkworks
 .org
DTSTART;TZID=America/Chicago:20200706T100000
DTEND;TZID=America/Chicago:20200706T110000
LOCATION:Virtual
SUMMARY:Multiples Support Group
END:VEVENT
END:VCALENDAR
