BEGIN:VCALENDAR
VERSION:2.0
PRODID:-//milkworks.org//NONSGML kigkonsult.se iCalcreator 2.30.10//
CALSCALE:GREGORIAN
METHOD:PUBLISH
UID:0cba1726-054e-4814-8408-908fc653e93b
X-WR-CALDESC:For expectant parents - get ready to feed your newborn! This c
 lass covers breastfeeding basics\, common challenges and how to get suppor
 t. Please click the 'register now' button. * If registration is full\, ple
 ase call 402-423-6402 to be put on the waiting list.*   \n\nPlease note\, 
 this is a virtual class.\n\nFee is $25.\n\n
X-WR-RELCALID:19e8e9cb232928692501cdae5d0754eb
X-WR-TIMEZONE:America/Chicago
BEGIN:VTIMEZONE
TZID:America/Chicago
BEGIN:STANDARD
TZNAME:CST
DTSTART:20191103T020000
TZOFFSETFROM:-0500
TZOFFSETTO:-0600
RDATE:20201101T020000
RDATE:20211107T020000
END:STANDARD
BEGIN:DAYLIGHT
TZNAME:CDT
DTSTART:20200308T020000
TZOFFSETFROM:-0600
TZOFFSETTO:-0500
RDATE:20210314T020000
END:DAYLIGHT
END:VTIMEZONE
BEGIN:VEVENT
UID:e6c2ba05-1455-4d01-93ad-be355b31671a
DTSTAMP:20260424T160637Z
DESCRIPTION:For expectant parents - get ready to feed your newborn! This cl
 ass covers breastfeeding basics\, common challenges and how to get support
 . Please click the 'register now' button. * If registration is full\, plea
 se call 402-423-6402 to be put on the waiting list.*   \n\nPlease note\, t
 his is a virtual class.\n\nFee is $25.\n\n
DTSTART;TZID=America/Chicago:20200711T100000
DTEND;TZID=America/Chicago:20200711T150000
LOCATION:MilkWorks Lincoln
SUMMARY:All About Breastfeeding {Virtual}
END:VEVENT
END:VCALENDAR
