BEGIN:VCALENDAR
VERSION:2.0
PRODID:-//milkworks.org//NONSGML kigkonsult.se iCalcreator 2.30.10//
CALSCALE:GREGORIAN
METHOD:PUBLISH
UID:e01528b3-486f-4d5b-bba3-bbf2e27569d6
X-WR-CALDESC:This group is for moms with babies or toddlers. It is a virtua
 l class. A breastfeeding educator leads the group and makes sure that ever
 yone is introduced. Moms can choose to ask questions and talk about  breas
 tfeeding and other related topics.\n\n* This is a virtual group. Please em
 ail calendar@milkworks.org to obtain the zoom link. Thank you!\n\n
X-WR-RELCALID:3533aded3dcdf52256245c7ff6214c7a
X-WR-TIMEZONE:America/Chicago
BEGIN:VTIMEZONE
TZID:America/Chicago
BEGIN:STANDARD
TZNAME:CST
DTSTART:20191103T020000
TZOFFSETFROM:-0500
TZOFFSETTO:-0600
RDATE:20201101T020000
RDATE:20211107T020000
END:STANDARD
BEGIN:DAYLIGHT
TZNAME:CDT
DTSTART:20200308T020000
TZOFFSETFROM:-0600
TZOFFSETTO:-0500
RDATE:20210314T020000
END:DAYLIGHT
END:VTIMEZONE
BEGIN:VEVENT
UID:7f1c471b-6e8d-496b-a73a-4979e68bdeab
DTSTAMP:20260424T160806Z
DESCRIPTION:This group is for moms with babies or toddlers. It is a virtual
  class. A breastfeeding educator leads the group and makes sure that every
 one is introduced. Moms can choose to ask questions and talk about  breast
 feeding and other related topics.\n\n* This is a virtual group. Please ema
 il calendar@milkworks.org to obtain the zoom link. Thank you!\n\n
DTSTART;TZID=America/Chicago:20200714T093000
DTEND;TZID=America/Chicago:20200714T110000
LOCATION:MilkWorks Lincoln
SUMMARY:Mom Talk (virtual)
END:VEVENT
END:VCALENDAR
