BEGIN:VCALENDAR
VERSION:2.0
PRODID:-//milkworks.org//NONSGML kigkonsult.se iCalcreator 2.30.10//
CALSCALE:GREGORIAN
METHOD:PUBLISH
UID:9567bb94-31d0-4074-8fb6-eef2c742fb92
X-WR-CALDESC:For new mothers who are returning to work or school outside th
 e home while breastfeeding. Learn the “ins and outs” of pumping\, storing 
 milk\, federal regulations and working with your day care provider. You ma
 y attend while pregnant or after your baby is born. Fee is $15. \n\n* If r
 egistration is full\, please call 402-502-0617 to be put on the waiting li
 st.*  \n\n
X-WR-RELCALID:685be3f3a63ceaa046435c2f250f8402
X-WR-TIMEZONE:America/Chicago
BEGIN:VTIMEZONE
TZID:America/Chicago
BEGIN:STANDARD
TZNAME:CST
DTSTART:20191103T020000
TZOFFSETFROM:-0500
TZOFFSETTO:-0600
RDATE:20201101T020000
RDATE:20211107T020000
END:STANDARD
BEGIN:DAYLIGHT
TZNAME:CDT
DTSTART:20200308T020000
TZOFFSETFROM:-0600
TZOFFSETTO:-0500
RDATE:20210314T020000
END:DAYLIGHT
END:VTIMEZONE
BEGIN:VEVENT
UID:77e9ffd5-9050-458b-b484-0c6de3fb5fdb
DTSTAMP:20260424T160611Z
DESCRIPTION:For new mothers who are returning to work or school outside the
  home while breastfeeding. Learn the “ins and outs” of pumping\, storing m
 ilk\, federal regulations and working with your day care provider. You may
  attend while pregnant or after your baby is born. Fee is $15. \n\n* If re
 gistration is full\, please call 402-502-0617 to be put on the waiting lis
 t.*  \n\n
DTSTART;TZID=America/Chicago:20200714T180000
DTEND;TZID=America/Chicago:20200714T200000
LOCATION:Omaha
SUMMARY:Return to Work {Virtual}
END:VEVENT
END:VCALENDAR
