BEGIN:VCALENDAR
VERSION:2.0
PRODID:-//milkworks.org//NONSGML kigkonsult.se iCalcreator 2.30.10//
CALSCALE:GREGORIAN
METHOD:PUBLISH
UID:fab6cd8c-859c-4f56-ac7c-1ab3078bf4d4
X-WR-CALDESC:
X-WR-RELCALID:138980f6ca15e16270954a50d2cdb12d
X-WR-TIMEZONE:America/Chicago
BEGIN:VTIMEZONE
TZID:America/Chicago
BEGIN:STANDARD
TZNAME:CST
DTSTART:20191103T020000
TZOFFSETFROM:-0500
TZOFFSETTO:-0600
RDATE:20201101T020000
RDATE:20211107T020000
END:STANDARD
BEGIN:DAYLIGHT
TZNAME:CDT
DTSTART:20200308T020000
TZOFFSETFROM:-0600
TZOFFSETTO:-0500
RDATE:20210314T020000
END:DAYLIGHT
END:VTIMEZONE
BEGIN:VEVENT
UID:c965c340-19b4-4ee7-8c6c-c0a70f0bd118
DTSTAMP:20260424T160654Z
DESCRIPTION:
DTSTART;TZID=America/Chicago:20200716T180000
DTEND;TZID=America/Chicago:20200716T200000
LOCATION:
SUMMARY:Gathering Room In-Use
END:VEVENT
END:VCALENDAR
