BEGIN:VCALENDAR
VERSION:2.0
PRODID:-//milkworks.org//NONSGML kigkonsult.se iCalcreator 2.30.10//
CALSCALE:GREGORIAN
METHOD:PUBLISH
UID:e1f36ad0-e151-4783-908b-a3a745ff8cdb
X-WR-CALDESC:Join Nebraska Babywearing Alliance {NeBA} for this fun\, inter
 active babywearing class! NeBA will provide guidance on the many different
  ways to combine breastfeeding and babywearing. Please bring your baby and
  any personal carriers for hands on help. Demo carriers will be available.
  Moms with babies of all ages and levels of experience with babywearing ar
 e invited to attend! \n\nWhile this is a FREE class\, space is limited and
  you MUST register to reserve your spot.
X-WR-RELCALID:f40d5d1cf25448ed2fa1dd43afdac1f5
X-WR-TIMEZONE:America/Chicago
BEGIN:VTIMEZONE
TZID:America/Chicago
BEGIN:STANDARD
TZNAME:CST
DTSTART:20191103T020000
TZOFFSETFROM:-0500
TZOFFSETTO:-0600
RDATE:20201101T020000
RDATE:20211107T020000
END:STANDARD
BEGIN:DAYLIGHT
TZNAME:CDT
DTSTART:20200308T020000
TZOFFSETFROM:-0600
TZOFFSETTO:-0500
RDATE:20210314T020000
END:DAYLIGHT
END:VTIMEZONE
BEGIN:VEVENT
UID:071df4c4-466b-4b2a-a8b3-4e0854298ff8
DTSTAMP:20260424T160832Z
DESCRIPTION:Join Nebraska Babywearing Alliance {NeBA} for this fun\, intera
 ctive babywearing class! NeBA will provide guidance on the many different 
 ways to combine breastfeeding and babywearing. Please bring your baby and 
 any personal carriers for hands on help. Demo carriers will be available. 
 Moms with babies of all ages and levels of experience with babywearing are
  invited to attend! \n\nWhile this is a FREE class\, space is limited and 
 you MUST register to reserve your spot.
DTSTART;TZID=America/Chicago:20200718T093000
DTEND;TZID=America/Chicago:20200718T113000
LOCATION:MilkWorks O (in Rockbrook Village)
SUMMARY:Breastfeeding & Babywearing {Virtual}
END:VEVENT
END:VCALENDAR
