BEGIN:VCALENDAR
VERSION:2.0
PRODID:-//milkworks.org//NONSGML kigkonsult.se iCalcreator 2.30.10//
CALSCALE:GREGORIAN
METHOD:PUBLISH
UID:bb450830-1d85-4b21-866b-1b64c6d2b02d
X-WR-CALDESC:Led by one of our Lactation Consultants\, this group is intend
 ed for mothers-to-be and mothers of multiples. Discuss the ins and outs of
  breastfeeding\, parenting and caring for your multiples. \n\nTo receive t
 he link for group or for more information\, please email calendar@milkwork
 s.org
X-WR-RELCALID:c108c86b6d6ec73e03543521442f78c7
X-WR-TIMEZONE:America/Chicago
BEGIN:VTIMEZONE
TZID:America/Chicago
BEGIN:STANDARD
TZNAME:CST
DTSTART:20191103T020000
TZOFFSETFROM:-0500
TZOFFSETTO:-0600
RDATE:20201101T020000
RDATE:20211107T020000
END:STANDARD
BEGIN:DAYLIGHT
TZNAME:CDT
DTSTART:20200308T020000
TZOFFSETFROM:-0600
TZOFFSETTO:-0500
RDATE:20210314T020000
END:DAYLIGHT
END:VTIMEZONE
BEGIN:VEVENT
UID:8ff17dd0-5be4-4e63-a93b-eb4139afa1a0
DTSTAMP:20260424T160638Z
DESCRIPTION:Led by one of our Lactation Consultants\, this group is intende
 d for mothers-to-be and mothers of multiples. Discuss the ins and outs of 
 breastfeeding\, parenting and caring for your multiples. \n\nTo receive th
 e link for group or for more information\, please email calendar@milkworks
 .org
DTSTART;TZID=America/Chicago:20200720T100000
DTEND;TZID=America/Chicago:20200720T110000
LOCATION:Virtual
SUMMARY:Multiples Support Group
END:VEVENT
END:VCALENDAR
