BEGIN:VCALENDAR
VERSION:2.0
PRODID:-//milkworks.org//NONSGML kigkonsult.se iCalcreator 2.30.10//
CALSCALE:GREGORIAN
METHOD:PUBLISH
UID:a9bcc5a4-d98e-47aa-ba77-7d8f77e856e4
X-WR-CALDESC:If you would like to take this class\, Please sign up for 'Par
 t 1'\n\nFor expectant parents - get ready to feed your newborn! This class
  covers breastfeeding basics\, common challenges and how to get support. T
 his is the second class in a two part Tuesday night All About Breastfeedin
 g class. \n\nFee is $25.\n\n
X-WR-RELCALID:4a448fb9187ea4266b489b198f6b6cba
X-WR-TIMEZONE:America/Chicago
BEGIN:VTIMEZONE
TZID:America/Chicago
BEGIN:STANDARD
TZNAME:CST
DTSTART:20191103T020000
TZOFFSETFROM:-0500
TZOFFSETTO:-0600
RDATE:20201101T020000
RDATE:20211107T020000
END:STANDARD
BEGIN:DAYLIGHT
TZNAME:CDT
DTSTART:20200308T020000
TZOFFSETFROM:-0600
TZOFFSETTO:-0500
RDATE:20210314T020000
END:DAYLIGHT
END:VTIMEZONE
BEGIN:VEVENT
UID:74015283-26ea-4881-8793-80aad131fefe
DTSTAMP:20260424T160750Z
DESCRIPTION:If you would like to take this class\, Please sign up for 'Part
  1'\n\nFor expectant parents - get ready to feed your newborn! This class 
 covers breastfeeding basics\, common challenges and how to get support. Th
 is is the second class in a two part Tuesday night All About Breastfeeding
  class. \n\nFee is $25.\n\n
DTSTART;TZID=America/Chicago:20200728T180000
DTEND;TZID=America/Chicago:20200728T200000
LOCATION:MilkWorks Lincoln
SUMMARY:All About Breastfeeding Part 2 (Virtual)
END:VEVENT
END:VCALENDAR
