BEGIN:VCALENDAR
VERSION:2.0
PRODID:-//milkworks.org//NONSGML kigkonsult.se iCalcreator 2.30.10//
CALSCALE:GREGORIAN
METHOD:PUBLISH
UID:36990ee0-b3d7-4fdc-ba83-ba9d546a48fd
X-WR-CALDESC:Geared towards educators returning back to work\, this class w
 ill help you learn the “ins and outs” of pumping\, storing milk\, federal 
 regulations\, and working with your day care provider. You may attend whil
 e pregnant or after your baby is born. Fee is $15 or free with pump servic
 e plan\n\n* If registration is full\, please call 402-502-0617 to be put o
 n the waiting list.*  \n\n
X-WR-RELCALID:b6ca1b57499a0cf8b0a4750fe44a051a
X-WR-TIMEZONE:America/Chicago
BEGIN:VTIMEZONE
TZID:America/Chicago
BEGIN:STANDARD
TZNAME:CST
DTSTART:20191103T020000
TZOFFSETFROM:-0500
TZOFFSETTO:-0600
RDATE:20201101T020000
RDATE:20211107T020000
END:STANDARD
BEGIN:DAYLIGHT
TZNAME:CDT
DTSTART:20200308T020000
TZOFFSETFROM:-0600
TZOFFSETTO:-0500
RDATE:20210314T020000
END:DAYLIGHT
END:VTIMEZONE
BEGIN:VEVENT
UID:b805b1ab-ce53-48ab-a6b2-04d17aa7de98
DTSTAMP:20260424T160611Z
DESCRIPTION:Geared towards educators returning back to work\, this class wi
 ll help you learn the “ins and outs” of pumping\, storing milk\, federal r
 egulations\, and working with your day care provider. You may attend while
  pregnant or after your baby is born. Fee is $15 or free with pump service
  plan\n\n* If registration is full\, please call 402-502-0617 to be put on
  the waiting list.*  \n\n
DTSTART;TZID=America/Chicago:20200728T130000
DTEND;TZID=America/Chicago:20200728T150000
LOCATION:Omaha
SUMMARY:Return to Work: educator's edition {Virtual}
END:VEVENT
END:VCALENDAR
