BEGIN:VCALENDAR
VERSION:2.0
PRODID:-//milkworks.org//NONSGML kigkonsult.se iCalcreator 2.30.10//
CALSCALE:GREGORIAN
METHOD:PUBLISH
UID:1f104102-ac7b-419b-ad90-6afede882d13
X-WR-CALDESC:For expectant parents - get ready to feed your newborn! This c
 lass covers breastfeeding basics\, common challenges and how to get suppor
 t. Please click the 'register now' button. * If registration is full\, ple
 ase call 402-423-6402 to be put on the waiting list.*   \n\nPlease note\, 
 this is a virtual class.\n\nFee is $25.\n\n
X-WR-RELCALID:ed4da8c9f7459c624635222385d31e8d
X-WR-TIMEZONE:America/Chicago
BEGIN:VTIMEZONE
TZID:America/Chicago
BEGIN:STANDARD
TZNAME:CST
DTSTART:20191103T020000
TZOFFSETFROM:-0500
TZOFFSETTO:-0600
RDATE:20201101T020000
RDATE:20211107T020000
END:STANDARD
BEGIN:DAYLIGHT
TZNAME:CDT
DTSTART:20200308T020000
TZOFFSETFROM:-0600
TZOFFSETTO:-0500
RDATE:20210314T020000
END:DAYLIGHT
END:VTIMEZONE
BEGIN:VEVENT
UID:662b72cd-28c0-4d89-b55f-ca26a8c87f09
DTSTAMP:20260424T175004Z
DESCRIPTION:For expectant parents - get ready to feed your newborn! This cl
 ass covers breastfeeding basics\, common challenges and how to get support
 . Please click the 'register now' button. * If registration is full\, plea
 se call 402-423-6402 to be put on the waiting list.*   \n\nPlease note\, t
 his is a virtual class.\n\nFee is $25.\n\n
DTSTART;TZID=America/Chicago:20200815T100000
DTEND;TZID=America/Chicago:20200815T150000
LOCATION:MilkWorks Lincoln
SUMMARY:All About Breastfeeding {Virtual}
END:VEVENT
END:VCALENDAR
