BEGIN:VCALENDAR
VERSION:2.0
PRODID:-//milkworks.org//NONSGML kigkonsult.se iCalcreator 2.30.10//
CALSCALE:GREGORIAN
METHOD:PUBLISH
UID:139088eb-c35e-434e-9a7d-c7fb6cc1c743
X-WR-CALDESC:Please join Hali\, mom of 11 month old twin boys\, for a twin 
 mom support group\, all topics are welcome (transitions of motherhood\, ne
 wborn development\, SLEEP!\, baby wearing\, self care- only to name a few)
  and we tailor each class according to the needs of the group. We welcome 
 you to join us during your journey with twins! \n\nTo receive the link for
  group or for more information\, please email calendar@milkworks.org
X-WR-RELCALID:0b735d360f7c5f4832a0cb199f587497
X-WR-TIMEZONE:America/Chicago
BEGIN:VTIMEZONE
TZID:America/Chicago
BEGIN:STANDARD
TZNAME:CST
DTSTART:20191103T020000
TZOFFSETFROM:-0500
TZOFFSETTO:-0600
RDATE:20201101T020000
RDATE:20211107T020000
END:STANDARD
BEGIN:DAYLIGHT
TZNAME:CDT
DTSTART:20200308T020000
TZOFFSETFROM:-0600
TZOFFSETTO:-0500
RDATE:20210314T020000
END:DAYLIGHT
END:VTIMEZONE
BEGIN:VEVENT
UID:6f89d8f3-51f5-4fe0-b029-1d4ad7feaf56
DTSTAMP:20260424T174907Z
DESCRIPTION:Please join Hali\, mom of 11 month old twin boys\, for a twin m
 om support group\, all topics are welcome (transitions of motherhood\, new
 born development\, SLEEP!\, baby wearing\, self care- only to name a few) 
 and we tailor each class according to the needs of the group. We welcome y
 ou to join us during your journey with twins! \n\nTo receive the link for 
 group or for more information\, please email calendar@milkworks.org
DTSTART;TZID=America/Chicago:20200817T100000
DTEND;TZID=America/Chicago:20200817T110000
LOCATION:Virtual
SUMMARY:Multiples Support Group
END:VEVENT
END:VCALENDAR
