BEGIN:VCALENDAR
VERSION:2.0
PRODID:-//milkworks.org//NONSGML kigkonsult.se iCalcreator 2.30.10//
CALSCALE:GREGORIAN
METHOD:PUBLISH
UID:baa978f1-d5f6-4f6b-97a6-2ed498c6c36d
X-WR-CALDESC:Join us for Dad Talk\, every week\, Hosted by Darren DelLone &
  Oscar Lucar!! This group is for dads with babies or toddlers. It is a vir
 tual group. MilkWorks Community partners Darren and Oscar host the group a
 nd make sure that everyone is introduced. There is always an opportunity t
 o ask questions about breastfeeding\,  parenting and everything in between
 . Dads can join anytime!\n\nFor the month of September this group will be 
 held every other Wednesday & Friday. Please continue to check our calendar
  for more updated dates in October.\n\n* To obtain the link for our virtua
 l dad talk\, please email calendar@milkworks.org. Thank you!
X-WR-RELCALID:7958b9517b7f992b35703ac9030bcaf0
X-WR-TIMEZONE:America/Chicago
BEGIN:VTIMEZONE
TZID:America/Chicago
BEGIN:STANDARD
TZNAME:CST
DTSTART:20191103T020000
TZOFFSETFROM:-0500
TZOFFSETTO:-0600
RDATE:20201101T020000
RDATE:20211107T020000
END:STANDARD
BEGIN:DAYLIGHT
TZNAME:CDT
DTSTART:20200308T020000
TZOFFSETFROM:-0600
TZOFFSETTO:-0500
RDATE:20210314T020000
END:DAYLIGHT
END:VTIMEZONE
BEGIN:VEVENT
UID:42f07425-6ce4-4def-8a5c-3c7ec92b6204
DTSTAMP:20260424T192350Z
DESCRIPTION:Join us for Dad Talk\, every week\, Hosted by Darren DelLone & 
 Oscar Lucar!! This group is for dads with babies or toddlers. It is a virt
 ual group. MilkWorks Community partners Darren and Oscar host the group an
 d make sure that everyone is introduced. There is always an opportunity to
  ask questions about breastfeeding\,  parenting and everything in between.
  Dads can join anytime!\n\nFor the month of September this group will be h
 eld every other Wednesday & Friday. Please continue to check our calendar 
 for more updated dates in October.\n\n* To obtain the link for our virtual
  dad talk\, please email calendar@milkworks.org. Thank you!
DTSTART;TZID=America/Chicago:20200904T160000
DTEND;TZID=America/Chicago:20200904T170000
LOCATION:Virtual
SUMMARY:Dad Talk (VIRTUAL)
END:VEVENT
END:VCALENDAR
