BEGIN:VCALENDAR
VERSION:2.0
PRODID:-//milkworks.org//NONSGML kigkonsult.se iCalcreator 2.30.10//
CALSCALE:GREGORIAN
METHOD:PUBLISH
UID:d5510906-8254-4939-b6dd-2c8d215244fc
X-WR-CALDESC:This is a two part\, (2) hour long class. The second class mee
 ts on the following Tuesday night (9/15)  from 6-8pm.\n\nFor expectant par
 ents - get ready to feed your newborn! This class covers breastfeeding bas
 ics\, common challenges and how to get support. Please click the 'register
  now' button. * If registration is full\, please call 402-423-6402 to be p
 ut on the waiting list.*  \n \nFee is $25.\n\n
X-WR-RELCALID:4566e951d8e5941f52a63a0e1cdac32c
X-WR-TIMEZONE:America/Chicago
BEGIN:VTIMEZONE
TZID:America/Chicago
BEGIN:STANDARD
TZNAME:CST
DTSTART:20191103T020000
TZOFFSETFROM:-0500
TZOFFSETTO:-0600
RDATE:20201101T020000
RDATE:20211107T020000
END:STANDARD
BEGIN:DAYLIGHT
TZNAME:CDT
DTSTART:20200308T020000
TZOFFSETFROM:-0600
TZOFFSETTO:-0500
RDATE:20210314T020000
END:DAYLIGHT
END:VTIMEZONE
BEGIN:VEVENT
UID:441fd728-4d36-4ad5-910f-aee624bf55d1
DTSTAMP:20260424T193050Z
DESCRIPTION:This is a two part\, (2) hour long class. The second class meet
 s on the following Tuesday night (9/15)  from 6-8pm.\n\nFor expectant pare
 nts - get ready to feed your newborn! This class covers breastfeeding basi
 cs\, common challenges and how to get support. Please click the 'register 
 now' button. * If registration is full\, please call 402-423-6402 to be pu
 t on the waiting list.*  \n \nFee is $25.\n\n
DTSTART;TZID=America/Chicago:20200908T180000
DTEND;TZID=America/Chicago:20200908T200000
LOCATION:MilkWorks Lincoln
SUMMARY:All About Breastfeeding Part 1 (Virtual)
END:VEVENT
END:VCALENDAR
