BEGIN:VCALENDAR
VERSION:2.0
PRODID:-//milkworks.org//NONSGML kigkonsult.se iCalcreator 2.30.10//
CALSCALE:GREGORIAN
METHOD:PUBLISH
UID:98ed09ae-6743-4070-89f6-27ba704a53f3
X-WR-CALDESC:A lot has changed since our children were children. Now those 
 children are having babies! Learn how you can best support the new parents
  in your life with this {{FREE}} engaging virtual class. Expecting parents
 \, we'd love to have you join along with your parents or in-laws! An email
  will be sent prior to class with the zoom link.
X-WR-RELCALID:db03612a66b172da6af7f018c1fb15bd
X-WR-TIMEZONE:America/Chicago
BEGIN:VTIMEZONE
TZID:America/Chicago
BEGIN:STANDARD
TZNAME:CST
DTSTART:20191103T020000
TZOFFSETFROM:-0500
TZOFFSETTO:-0600
RDATE:20201101T020000
RDATE:20211107T020000
END:STANDARD
BEGIN:DAYLIGHT
TZNAME:CDT
DTSTART:20200308T020000
TZOFFSETFROM:-0600
TZOFFSETTO:-0500
RDATE:20210314T020000
RDATE:20220313T020000
END:DAYLIGHT
END:VTIMEZONE
BEGIN:VEVENT
UID:7ec6ca63-4ffa-4c11-8cdc-79064966dc17
DTSTAMP:20260424T194238Z
DESCRIPTION:A lot has changed since our children were children. Now those c
 hildren are having babies! Learn how you can best support the new parents 
 in your life with this {{FREE}} engaging virtual class. Expecting parents\
 , we'd love to have you join along with your parents or in-laws! An email 
 will be sent prior to class with the zoom link.
DTSTART;TZID=America/Chicago:20200912T103000
DTEND;TZID=America/Chicago:20200912T120000
LOCATION:
SUMMARY:So you're going to be a grandparent!
END:VEVENT
END:VCALENDAR
