BEGIN:VCALENDAR
VERSION:2.0
PRODID:-//milkworks.org//NONSGML kigkonsult.se iCalcreator 2.30.10//
CALSCALE:GREGORIAN
METHOD:PUBLISH
UID:8ecf4aae-bc82-4020-bd10-3894ba437fea
X-WR-CALDESC:If you would like to take this class\, Please sign up for 'Par
 t 1'\n\nFor expectant parents - get ready to feed your newborn! This class
  covers breastfeeding basics\, common challenges and how to get support. T
 his is the second class in a two part Tuesday night All About Breastfeedin
 g class. \n\nFee is $25.\n\n
X-WR-RELCALID:1f4d4d9deeb14f63e7142311dc8a24b3
X-WR-TIMEZONE:America/Chicago
BEGIN:VTIMEZONE
TZID:America/Chicago
BEGIN:STANDARD
TZNAME:CST
DTSTART:20191103T020000
TZOFFSETFROM:-0500
TZOFFSETTO:-0600
RDATE:20201101T020000
RDATE:20211107T020000
END:STANDARD
BEGIN:DAYLIGHT
TZNAME:CDT
DTSTART:20200308T020000
TZOFFSETFROM:-0600
TZOFFSETTO:-0500
RDATE:20210314T020000
RDATE:20220313T020000
END:DAYLIGHT
END:VTIMEZONE
BEGIN:VEVENT
UID:d8ab0573-7c2c-42b3-a72d-ec4a643dd6dc
DTSTAMP:20260424T192508Z
DESCRIPTION:If you would like to take this class\, Please sign up for 'Part
  1'\n\nFor expectant parents - get ready to feed your newborn! This class 
 covers breastfeeding basics\, common challenges and how to get support. Th
 is is the second class in a two part Tuesday night All About Breastfeeding
  class. \n\nFee is $25.\n\n
DTSTART;TZID=America/Chicago:20200915T180000
DTEND;TZID=America/Chicago:20200915T200000
LOCATION:MilkWorks Lincoln
SUMMARY:All About Breastfeeding Part 2 (Virtual)
END:VEVENT
END:VCALENDAR
