BEGIN:VCALENDAR
VERSION:2.0
PRODID:-//milkworks.org//NONSGML kigkonsult.se iCalcreator 2.30.10//
CALSCALE:GREGORIAN
METHOD:PUBLISH
UID:027cdbbb-091f-4b27-b63d-7a79af753cf2
X-WR-CALDESC:For new mothers who are returning to work or school outside th
 e home while breastfeeding. Learn the “ins and outs” of pumping\, storing 
 milk\, federal regulations and working with your day care provider. You ma
 y attend while pregnant or after your baby is born. Fee is $15. \n\n* If r
 egistration is full\, please call 402-502-0617 to be put on the waiting li
 st.*  \n\n
X-WR-RELCALID:619ecd63c5c7fc6cb8ef8f8090c708b7
X-WR-TIMEZONE:America/Chicago
BEGIN:VTIMEZONE
TZID:America/Chicago
BEGIN:STANDARD
TZNAME:CST
DTSTART:20191103T020000
TZOFFSETFROM:-0500
TZOFFSETTO:-0600
RDATE:20201101T020000
RDATE:20211107T020000
END:STANDARD
BEGIN:DAYLIGHT
TZNAME:CDT
DTSTART:20200308T020000
TZOFFSETFROM:-0600
TZOFFSETTO:-0500
RDATE:20210314T020000
RDATE:20220313T020000
END:DAYLIGHT
END:VTIMEZONE
BEGIN:VEVENT
UID:6d5f0a4f-1240-4af5-8382-12316d9b5988
DTSTAMP:20260424T192302Z
DESCRIPTION:For new mothers who are returning to work or school outside the
  home while breastfeeding. Learn the “ins and outs” of pumping\, storing m
 ilk\, federal regulations and working with your day care provider. You may
  attend while pregnant or after your baby is born. Fee is $15. \n\n* If re
 gistration is full\, please call 402-502-0617 to be put on the waiting lis
 t.*  \n\n
DTSTART;TZID=America/Chicago:20200922T130000
DTEND;TZID=America/Chicago:20200922T150000
LOCATION:Omaha
SUMMARY:Return to Work {Omaha}
END:VEVENT
END:VCALENDAR
