BEGIN:VCALENDAR
VERSION:2.0
PRODID:-//milkworks.org//NONSGML kigkonsult.se iCalcreator 2.30.10//
CALSCALE:GREGORIAN
METHOD:PUBLISH
UID:25c82053-e44f-4ee5-a012-54473f7c41bf
X-WR-CALDESC:Join us for Dad Talk\, every week\, Hosted by Darren Delone & 
 Oscar Lucar!! This group is for dads with babies or toddlers. It is a virt
 ual group. MilkWorks Community partners Darren and Oscar host the group an
 d make sure that everyone is introduced. There is always an opportunity to
  ask questions about breastfeeding\,  parenting and everything in between.
  Dads can join anytime!\n\nFor the month of September this group will be h
 eld every other Wednesday & Friday. Please continue to check our calendar 
 for more updated dates in October.\n\n* To obtain the link for our virtual
  dad talk\, please email calendar@milkworks.org. Thank you!
X-WR-RELCALID:a6bf688ebf6e1ad24e0724daea02533f
X-WR-TIMEZONE:America/Chicago
BEGIN:VTIMEZONE
TZID:America/Chicago
BEGIN:STANDARD
TZNAME:CST
DTSTART:20191103T020000
TZOFFSETFROM:-0500
TZOFFSETTO:-0600
RDATE:20201101T020000
RDATE:20211107T020000
END:STANDARD
BEGIN:DAYLIGHT
TZNAME:CDT
DTSTART:20200308T020000
TZOFFSETFROM:-0600
TZOFFSETTO:-0500
RDATE:20210314T020000
RDATE:20220313T020000
END:DAYLIGHT
END:VTIMEZONE
BEGIN:VEVENT
UID:7b319df5-9c8e-4ff3-bc8b-598becdea599
DTSTAMP:20260424T192302Z
DESCRIPTION:Join us for Dad Talk\, every week\, Hosted by Darren Delone & O
 scar Lucar!! This group is for dads with babies or toddlers. It is a virtu
 al group. MilkWorks Community partners Darren and Oscar host the group and
  make sure that everyone is introduced. There is always an opportunity to 
 ask questions about breastfeeding\,  parenting and everything in between. 
 Dads can join anytime!\n\nFor the month of September this group will be he
 ld every other Wednesday & Friday. Please continue to check our calendar f
 or more updated dates in October.\n\n* To obtain the link for our virtual 
 dad talk\, please email calendar@milkworks.org. Thank you!
DTSTART;TZID=America/Chicago:20200923T160000
DTEND;TZID=America/Chicago:20200923T170000
LOCATION:Virtual
SUMMARY:Dad Talk (VIRTUAL)
END:VEVENT
END:VCALENDAR
