BEGIN:VCALENDAR
VERSION:2.0
PRODID:-//milkworks.org//NONSGML kigkonsult.se iCalcreator 2.30.10//
CALSCALE:GREGORIAN
METHOD:PUBLISH
UID:cc41f23c-acbb-44d5-adeb-5ced141df207
X-WR-CALDESC:If you would like to take this class\, Please sign up for 'Par
 t 1'\n\nFor expectant parents - get ready to feed your newborn! This class
  covers breastfeeding basics\, common challenges and how to get support. T
 his is the second class in a two part Tuesday night All About Breastfeedin
 g class. \n\nFee is $25.\n\n
X-WR-RELCALID:8ef446d8ee47cb5cba4322089251759a
X-WR-TIMEZONE:America/Chicago
BEGIN:VTIMEZONE
TZID:America/Chicago
BEGIN:STANDARD
TZNAME:CST
DTSTART:20191103T020000
TZOFFSETFROM:-0500
TZOFFSETTO:-0600
RDATE:20201101T020000
RDATE:20211107T020000
END:STANDARD
BEGIN:DAYLIGHT
TZNAME:CDT
DTSTART:20200308T020000
TZOFFSETFROM:-0600
TZOFFSETTO:-0500
RDATE:20210314T020000
RDATE:20220313T020000
END:DAYLIGHT
END:VTIMEZONE
BEGIN:VEVENT
UID:577d26ce-4cd7-4f1f-89de-9eaa8607a4ab
DTSTAMP:20260424T211301Z
DESCRIPTION:If you would like to take this class\, Please sign up for 'Part
  1'\n\nFor expectant parents - get ready to feed your newborn! This class 
 covers breastfeeding basics\, common challenges and how to get support. Th
 is is the second class in a two part Tuesday night All About Breastfeeding
  class. \n\nFee is $25.\n\n
DTSTART;TZID=America/Chicago:20201027T180000
DTEND;TZID=America/Chicago:20201027T200000
LOCATION:MilkWorks Lincoln
SUMMARY:All About Breastfeeding Part 2 (Virtual)
END:VEVENT
END:VCALENDAR
