BEGIN:VCALENDAR
VERSION:2.0
PRODID:-//milkworks.org//NONSGML kigkonsult.se iCalcreator 2.30.10//
CALSCALE:GREGORIAN
METHOD:PUBLISH
UID:890391da-e5bd-4227-8b5c-6c64d45e3b0a
X-WR-CALDESC:For expectant parents - get ready to feed your newborn! This c
 lass covers breastfeeding basics\, common challenges and how to get suppor
 t. Please click the 'register now' button. * If registration is full\, ple
 ase call 402-423-6402 to be put on the waiting list.*   \n\nPlease Note: t
 his is a virtual class Fee is $25.\n\n
X-WR-RELCALID:0e1e8ca022e75c6254f5bdbc7783805d
X-WR-TIMEZONE:America/Chicago
BEGIN:VTIMEZONE
TZID:America/Chicago
BEGIN:STANDARD
TZNAME:CST
DTSTART:20201101T020000
TZOFFSETFROM:-0500
TZOFFSETTO:-0600
RDATE:20211107T020000
END:STANDARD
BEGIN:DAYLIGHT
TZNAME:CDT
DTSTART:20200308T020000
TZOFFSETFROM:-0600
TZOFFSETTO:-0500
RDATE:20210314T020000
RDATE:20220313T020000
END:DAYLIGHT
END:VTIMEZONE
BEGIN:VEVENT
UID:f72c5e13-e9ae-45d1-90db-ffebcd54bb29
DTSTAMP:20260424T223221Z
DESCRIPTION:For expectant parents - get ready to feed your newborn! This cl
 ass covers breastfeeding basics\, common challenges and how to get support
 . Please click the 'register now' button. * If registration is full\, plea
 se call 402-423-6402 to be put on the waiting list.*   \n\nPlease Note: th
 is is a virtual class Fee is $25.\n\n
DTSTART;TZID=America/Chicago:20201107T100000
DTEND;TZID=America/Chicago:20201107T150000
LOCATION:MilkWorks Lincoln
SUMMARY:All About Breastfeeding {VIRTUAL}
END:VEVENT
END:VCALENDAR
