BEGIN:VCALENDAR
VERSION:2.0
PRODID:-//milkworks.org//NONSGML kigkonsult.se iCalcreator 2.30.10//
CALSCALE:GREGORIAN
METHOD:PUBLISH
UID:3e1f3319-2539-4b6e-8650-181b6722dfbf
X-WR-CALDESC:This is a two part\, (2) hour long class. The second class mee
 ts on the following Tuesday night (10/27)  from 6-8pm.\n\nFor expectant pa
 rents - get ready to feed your newborn! This class covers breastfeeding ba
 sics\, common challenges and how to get support. Please click the 'registe
 r now' button. * If registration is full\, please call 402-423-6402 to be 
 put on the waiting list.*  \n \nFee is $25.\n\n
X-WR-RELCALID:bbb2591cc65138257fb60f8c7ef6f364
X-WR-TIMEZONE:America/Chicago
BEGIN:VTIMEZONE
TZID:America/Chicago
BEGIN:STANDARD
TZNAME:CST
DTSTART:20201101T020000
TZOFFSETFROM:-0500
TZOFFSETTO:-0600
RDATE:20211107T020000
END:STANDARD
BEGIN:DAYLIGHT
TZNAME:CDT
DTSTART:20200308T020000
TZOFFSETFROM:-0600
TZOFFSETTO:-0500
RDATE:20210314T020000
RDATE:20220313T020000
END:DAYLIGHT
END:VTIMEZONE
BEGIN:VEVENT
UID:1dd90a74-d6c8-46c7-ad80-78127507d67b
DTSTAMP:20260424T223303Z
DESCRIPTION:This is a two part\, (2) hour long class. The second class meet
 s on the following Tuesday night (10/27)  from 6-8pm.\n\nFor expectant par
 ents - get ready to feed your newborn! This class covers breastfeeding bas
 ics\, common challenges and how to get support. Please click the 'register
  now' button. * If registration is full\, please call 402-423-6402 to be p
 ut on the waiting list.*  \n \nFee is $25.\n\n
DTSTART;TZID=America/Chicago:20201110T180000
DTEND;TZID=America/Chicago:20201110T200000
LOCATION:MilkWorks Lincoln
SUMMARY:All About Breastfeeding Part 1 (Virtual)
END:VEVENT
END:VCALENDAR
