BEGIN:VCALENDAR
VERSION:2.0
PRODID:-//milkworks.org//NONSGML kigkonsult.se iCalcreator 2.30.10//
CALSCALE:GREGORIAN
METHOD:PUBLISH
UID:f497e8e3-0ec9-4be3-93af-1a4844ce1a15
X-WR-CALDESC:For expectant parents - get ready to feed your newborn! This c
 lass covers breastfeeding basics\, common challenges and how to get suppor
 t. Please click the 'register now' button. * If registration is full\, ple
 ase call 402-502-0617 to be put on the waiting list.*   This class include
 s a 60 minute break for lunch. \n\nFee is $25.\n\n
X-WR-RELCALID:ffc0711ec23028f9b541152c3debfed9
X-WR-TIMEZONE:America/Chicago
BEGIN:VTIMEZONE
TZID:America/Chicago
BEGIN:STANDARD
TZNAME:CST
DTSTART:20201101T020000
TZOFFSETFROM:-0500
TZOFFSETTO:-0600
RDATE:20211107T020000
END:STANDARD
BEGIN:DAYLIGHT
TZNAME:CDT
DTSTART:20200308T020000
TZOFFSETFROM:-0600
TZOFFSETTO:-0500
RDATE:20210314T020000
RDATE:20220313T020000
END:DAYLIGHT
END:VTIMEZONE
BEGIN:VEVENT
UID:290f6f52-56cf-4fef-a649-91bf9d206b01
DTSTAMP:20260424T223220Z
DESCRIPTION:For expectant parents - get ready to feed your newborn! This cl
 ass covers breastfeeding basics\, common challenges and how to get support
 . Please click the 'register now' button. * If registration is full\, plea
 se call 402-502-0617 to be put on the waiting list.*   This class includes
  a 60 minute break for lunch. \n\nFee is $25.\n\n
DTSTART;TZID=America/Chicago:20201114T100000
DTEND;TZID=America/Chicago:20201114T150000
LOCATION:MilkWorks Omaha
SUMMARY:All About Breastfeeding {VIRTUAL}
END:VEVENT
END:VCALENDAR
