BEGIN:VCALENDAR
VERSION:2.0
PRODID:-//milkworks.org//NONSGML kigkonsult.se iCalcreator 2.30.10//
CALSCALE:GREGORIAN
METHOD:PUBLISH
UID:d055ce3f-17a8-41ca-aa54-b4b624b7797d
X-WR-CALDESC:
X-WR-RELCALID:94e8b6fbbc42c2b5039413a2c8d5d62c
X-WR-TIMEZONE:America/Chicago
BEGIN:VTIMEZONE
TZID:America/Chicago
BEGIN:STANDARD
TZNAME:CST
DTSTART:20201101T020000
TZOFFSETFROM:-0500
TZOFFSETTO:-0600
RDATE:20211107T020000
END:STANDARD
BEGIN:DAYLIGHT
TZNAME:CDT
DTSTART:20200308T020000
TZOFFSETFROM:-0600
TZOFFSETTO:-0500
RDATE:20210314T020000
RDATE:20220313T020000
END:DAYLIGHT
END:VTIMEZONE
BEGIN:VEVENT
UID:65cd8326-cb5a-41d0-868f-3e875962a60b
DTSTAMP:20260424T223221Z
DESCRIPTION:
DTSTART;TZID=America/Chicago:20201119T180000
DTEND;TZID=America/Chicago:20201119T200000
LOCATION:
SUMMARY:Gathering Room In-Use
END:VEVENT
END:VCALENDAR
