BEGIN:VCALENDAR
VERSION:2.0
PRODID:-//milkworks.org//NONSGML kigkonsult.se iCalcreator 2.30.10//
CALSCALE:GREGORIAN
METHOD:PUBLISH
UID:2d60c1b4-05c0-4ebe-bacd-4665edae1aff
X-WR-CALDESC:Join MilkWorks for this fun\, interactive\, babywearing class!
  Our instructors will provide guidance on the many different ways to combi
 ne breastfeeding and babywearing. Please bring your baby and any personal 
 carriers for hands on help. Demo carriers will be available. Moms with bab
 ies of all ages and levels of experience with babywearing are invited to a
 ttend!\n\nFee: Free\n\nWhile this is a free\, VIRTUAL class\, space is lim
 ited and you MUST register to reserve your spot.
X-WR-RELCALID:1fb3f6e22efd57cfdd7e1326bfc8d032
X-WR-TIMEZONE:America/Chicago
BEGIN:VTIMEZONE
TZID:America/Chicago
BEGIN:STANDARD
TZNAME:CST
DTSTART:20201101T020000
TZOFFSETFROM:-0500
TZOFFSETTO:-0600
RDATE:20211107T020000
END:STANDARD
BEGIN:DAYLIGHT
TZNAME:CDT
DTSTART:20200308T020000
TZOFFSETFROM:-0600
TZOFFSETTO:-0500
RDATE:20210314T020000
RDATE:20220313T020000
END:DAYLIGHT
END:VTIMEZONE
BEGIN:VEVENT
UID:be807324-f2da-4acd-b10f-075271234904
DTSTAMP:20260424T223220Z
DESCRIPTION:Join MilkWorks for this fun\, interactive\, babywearing class! 
 Our instructors will provide guidance on the many different ways to combin
 e breastfeeding and babywearing. Please bring your baby and any personal c
 arriers for hands on help. Demo carriers will be available. Moms with babi
 es of all ages and levels of experience with babywearing are invited to at
 tend!\n\nFee: Free\n\nWhile this is a free\, VIRTUAL class\, space is limi
 ted and you MUST register to reserve your spot.
DTSTART;TZID=America/Chicago:20201121T100000
DTEND;TZID=America/Chicago:20201121T120000
LOCATION:virtual
SUMMARY:Breastfeeding & Babywearing {Virtual}
END:VEVENT
END:VCALENDAR
