BEGIN:VCALENDAR
VERSION:2.0
PRODID:-//milkworks.org//NONSGML kigkonsult.se iCalcreator 2.30.10//
CALSCALE:GREGORIAN
METHOD:PUBLISH
UID:4ac70f32-9090-477d-a237-95ade33f5eca
X-WR-CALDESC:This is a two part\, (2) hour long class. The second class mee
 ts on the following Tuesday night (10/27)  from 6-8pm.\n\nFor expectant pa
 rents - get ready to feed your newborn! This class covers breastfeeding ba
 sics\, common challenges and how to get support. Please click the 'registe
 r now' button. * If registration is full\, please call 402-423-6402 to be 
 put on the waiting list.*  \n \nFee is $25.\n\n
X-WR-RELCALID:a06b232d8e955fecad8c2387001d6c72
X-WR-TIMEZONE:America/Chicago
BEGIN:VTIMEZONE
TZID:America/Chicago
BEGIN:STANDARD
TZNAME:CST
DTSTART:20201101T020000
TZOFFSETFROM:-0500
TZOFFSETTO:-0600
RDATE:20211107T020000
END:STANDARD
BEGIN:DAYLIGHT
TZNAME:CDT
DTSTART:20200308T020000
TZOFFSETFROM:-0600
TZOFFSETTO:-0500
RDATE:20210314T020000
RDATE:20220313T020000
END:DAYLIGHT
END:VTIMEZONE
BEGIN:VEVENT
UID:ee9c29bc-08ca-4406-af21-eba954cc1c3f
DTSTAMP:20260425T001651Z
DESCRIPTION:This is a two part\, (2) hour long class. The second class meet
 s on the following Tuesday night (10/27)  from 6-8pm.\n\nFor expectant par
 ents - get ready to feed your newborn! This class covers breastfeeding bas
 ics\, common challenges and how to get support. Please click the 'register
  now' button. * If registration is full\, please call 402-423-6402 to be p
 ut on the waiting list.*  \n \nFee is $25.\n\n
DTSTART;TZID=America/Chicago:20201201T180000
DTEND;TZID=America/Chicago:20201201T200000
LOCATION:MilkWorks Lincoln
SUMMARY:All About Breastfeeding Part 1 (Virtual)
END:VEVENT
END:VCALENDAR
