BEGIN:VCALENDAR
VERSION:2.0
PRODID:-//milkworks.org//NONSGML kigkonsult.se iCalcreator 2.30.10//
CALSCALE:GREGORIAN
METHOD:PUBLISH
UID:2ad42038-0496-4265-8a88-7d76dcab911f
X-WR-CALDESC:Join Nebraska Babywearing Alliance {NeBA} for this fun\, inter
 active babywearing class! NeBA will provide guidance on the many different
  ways to combine breastfeeding and babywearing. Please bring your baby and
  any personal carriers for hands on help. Demo carriers will be available.
  Moms with babies of all ages and levels of experience with babywearing ar
 e invited to attend! \n\nWhile this is a free\, VIRTUAL class\, space is l
 imited and you MUST register to reserve your spot.
X-WR-RELCALID:97d4700070f491d1de8e65038a6a8747
X-WR-TIMEZONE:America/Chicago
BEGIN:VTIMEZONE
TZID:America/Chicago
BEGIN:STANDARD
TZNAME:CST
DTSTART:20201101T020000
TZOFFSETFROM:-0500
TZOFFSETTO:-0600
RDATE:20211107T020000
END:STANDARD
BEGIN:DAYLIGHT
TZNAME:CDT
DTSTART:20200308T020000
TZOFFSETFROM:-0600
TZOFFSETTO:-0500
RDATE:20210314T020000
RDATE:20220313T020000
END:DAYLIGHT
END:VTIMEZONE
BEGIN:VEVENT
UID:87ac614c-89d4-4878-ba9f-25f76d49f9b8
DTSTAMP:20260425T002126Z
DESCRIPTION:Join Nebraska Babywearing Alliance {NeBA} for this fun\, intera
 ctive babywearing class! NeBA will provide guidance on the many different 
 ways to combine breastfeeding and babywearing. Please bring your baby and 
 any personal carriers for hands on help. Demo carriers will be available. 
 Moms with babies of all ages and levels of experience with babywearing are
  invited to attend! \n\nWhile this is a free\, VIRTUAL class\, space is li
 mited and you MUST register to reserve your spot.
DTSTART;TZID=America/Chicago:20201219T100000
DTEND;TZID=America/Chicago:20201219T120000
LOCATION:virtual
SUMMARY:Breastfeeding & Babywearing {Virtual}
END:VEVENT
END:VCALENDAR
