BEGIN:VCALENDAR
VERSION:2.0
PRODID:-//milkworks.org//NONSGML kigkonsult.se iCalcreator 2.30.10//
CALSCALE:GREGORIAN
METHOD:PUBLISH
UID:88a69f61-c296-4378-b78c-7ebf41dce3dd
X-WR-CALDESC:For expectant parents - get ready to feed your newborn! This c
 lass covers breastfeeding basics\, common challenges and how to get suppor
 t. Please click the 'register now' button. \n\nPlease note\, this is a vir
 tual class.\n\nFee is $35.\n\n
X-WR-RELCALID:c4d83f68dbe51b77160d26a8ffc81e1c
X-WR-TIMEZONE:America/Chicago
BEGIN:VTIMEZONE
TZID:America/Chicago
BEGIN:STANDARD
TZNAME:CST
DTSTART:20241103T020000
TZOFFSETFROM:-0500
TZOFFSETTO:-0600
RDATE:20251102T020000
RDATE:20261101T020000
END:STANDARD
BEGIN:DAYLIGHT
TZNAME:CDT
DTSTART:20250309T020000
TZOFFSETFROM:-0600
TZOFFSETTO:-0500
RDATE:20260308T020000
END:DAYLIGHT
END:VTIMEZONE
BEGIN:VEVENT
UID:285434af-f99b-4809-b5fd-bb290bb3bbf5
DTSTAMP:20260425T021820Z
DESCRIPTION:For expectant parents - get ready to feed your newborn! This cl
 ass covers breastfeeding basics\, common challenges and how to get support
 . Please click the 'register now' button. \n\nPlease note\, this is a virt
 ual class.\n\nFee is $35.\n\n
DTSTART;TZID=America/Chicago:20250610T173000
DTEND;TZID=America/Chicago:20250610T193000
LOCATION:MilkWorks
SUMMARY:All About Breastfeeding [VIRTUAL]
END:VEVENT
END:VCALENDAR
