BEGIN:VCALENDAR
VERSION:2.0
PRODID:-//milkworks.org//NONSGML kigkonsult.se iCalcreator 2.30.10//
CALSCALE:GREGORIAN
METHOD:PUBLISH
UID:f5e942c5-25c4-4db5-95c0-3ce0c9cee406
X-WR-CALDESC:Esta clase es para futuros padres que se están preparando para
  recibir un recién nacido y quieren amamantar. Esta clase habla de los bás
 icos sobre la lactancia\, los desafíos comunes\, y cómo buscar apoyo. 
X-WR-RELCALID:c2830e1e1ecbdb827a49c8f990d1cd9d
X-WR-TIMEZONE:America/Chicago
BEGIN:VTIMEZONE
TZID:America/Chicago
BEGIN:STANDARD
TZNAME:CST
DTSTART:20241103T020000
TZOFFSETFROM:-0500
TZOFFSETTO:-0600
RDATE:20251102T020000
RDATE:20261101T020000
END:STANDARD
BEGIN:DAYLIGHT
TZNAME:CDT
DTSTART:20250309T020000
TZOFFSETFROM:-0600
TZOFFSETTO:-0500
RDATE:20260308T020000
END:DAYLIGHT
END:VTIMEZONE
BEGIN:VEVENT
UID:bd18e052-3460-4f09-82ce-11a40fc0e46d
DTSTAMP:20260425T022734Z
DESCRIPTION:Esta clase es para futuros padres que se están preparando para 
 recibir un recién nacido y quieren amamantar. Esta clase habla de los bási
 cos sobre la lactancia\, los desafíos comunes\, y cómo buscar apoyo. 
DTSTART;TZID=America/Chicago:20250611T100000
DTEND;TZID=America/Chicago:20250611T120000
LOCATION:1533 N 27th Street\, Lincoln\, NE 68503 US
SUMMARY:Todo Sobre la Lactancia {LINCOLN}
END:VEVENT
END:VCALENDAR
