BEGIN:VCALENDAR
VERSION:2.0
PRODID:-//milkworks.org//NONSGML kigkonsult.se iCalcreator 2.30.10//
CALSCALE:GREGORIAN
METHOD:PUBLISH
UID:b6b364fe-c9ea-435e-a9d0-dd6cecdefb5e
X-WR-CALDESC:For expectant parents - get ready to feed your newborn! This c
 lass covers breastfeeding basics\, common challenges and how to get suppor
 t. Please click the 'register now' button. *If registration is full\, plea
 se call 402-502-0617 to be put on the waiting list.*   \n\nPlease note\, t
 his is a virtual class.\n\nFee is $35.\n\n
X-WR-RELCALID:a0f96624ef2b463d5b132ed8494f89b6
X-WR-TIMEZONE:America/Chicago
BEGIN:VTIMEZONE
TZID:America/Chicago
BEGIN:STANDARD
TZNAME:CST
DTSTART:20241103T020000
TZOFFSETFROM:-0500
TZOFFSETTO:-0600
RDATE:20251102T020000
RDATE:20261101T020000
END:STANDARD
BEGIN:DAYLIGHT
TZNAME:CDT
DTSTART:20250309T020000
TZOFFSETFROM:-0600
TZOFFSETTO:-0500
RDATE:20260308T020000
END:DAYLIGHT
END:VTIMEZONE
BEGIN:VEVENT
UID:15e2175c-14ae-4b0d-a02c-638b9c7b5297
DTSTAMP:20260425T005600Z
DESCRIPTION:For expectant parents - get ready to feed your newborn! This cl
 ass covers breastfeeding basics\, common challenges and how to get support
 . Please click the 'register now' button. *If registration is full\, pleas
 e call 402-502-0617 to be put on the waiting list.*   \n\nPlease note\, th
 is is a virtual class.\n\nFee is $35.\n\n
DTSTART;TZID=America/Chicago:20250701T173000
DTEND;TZID=America/Chicago:20250701T193000
LOCATION:MilkWorks
SUMMARY:All About Breastfeeding [VIRTUAL]
END:VEVENT
END:VCALENDAR
